Workbook
Name MZ1KF1: Vorlage!$C$52
Name MZ1KF10: Vorlage!$U$52
Name MZ1KF10Tag1Inhalt: Vorlage!$AK$46
Name MZ1KF10Tag1Preis1: Vorlage!$AZ$93
Name MZ1KF10Tag1Preis2: Vorlage!$AZ$94
Name MZ1KF10Tag1Preis3: Vorlage!$AZ$95
Name MZ1KF10Tag1Preis4: Vorlage!$AZ$96
Name MZ1KF10Tag1Preis5: Vorlage!$AZ$97
Name MZ1KF10TAG1Teil1: Vorlage!$U$54
Name MZ1KF10TAG1Teil2: Vorlage!$U$55
Name MZ1KF10Tag1ZUSATZ: Vorlage!$AK$4
Name MZ1KF10Tag2Inhalt: Vorlage!$AK$47
Name MZ1KF10Tag2Preis1: Vorlage!$AZ$99
Name MZ1KF10Tag2Preis2: Vorlage!$AZ$100
Name MZ1KF10Tag2Preis3: Vorlage!$AZ$101
Name MZ1KF10Tag2Preis4: Vorlage!$AZ$102
Name MZ1KF10Tag2Preis5: Vorlage!$AZ$103
Name MZ1KF10TAG2Teil1: Vorlage!$U$57
Name MZ1KF10TAG2Teil2: Vorlage!$U$58
Name MZ1KF10Tag2ZUSATZ: Vorlage!$AK$5
Name MZ1KF10Tag3Inhalt: Vorlage!$AK$48
Name MZ1KF10Tag3Preis1: Vorlage!$AZ$105
Name MZ1KF10Tag3Preis2: Vorlage!$AZ$106
Name MZ1KF10Tag3Preis3: Vorlage!$AZ$107
Name MZ1KF10Tag3Preis4: Vorlage!$AZ$108
Name MZ1KF10Tag3Preis5: Vorlage!$AZ$109
Name MZ1KF10TAG3Teil1: Vorlage!$U$60
Name MZ1KF10TAG3Teil2: Vorlage!$U$61
Name MZ1KF10Tag3ZUSATZ: Vorlage!$AK$6
Name MZ1KF10Tag4Inhalt: Vorlage!$AK$49
Name MZ1KF10Tag4Preis1: Vorlage!$AZ$111
Name MZ1KF10Tag4Preis2: Vorlage!$AZ$112
Name MZ1KF10Tag4Preis3: Vorlage!$AZ$113
Name MZ1KF10Tag4Preis4: Vorlage!$AZ$114
Name MZ1KF10Tag4Preis5: Vorlage!$AZ$115
Name MZ1KF10TAG4Teil1: Vorlage!$U$63
Name MZ1KF10TAG4Teil2: Vorlage!$U$64
Name MZ1KF10Tag4ZUSATZ: Vorlage!$AK$7
Name MZ1KF10Tag5Inhalt: Vorlage!$AK$50
Name MZ1KF10Tag5Preis1: Vorlage!$AZ$117
Name MZ1KF10Tag5Preis2: Vorlage!$AZ$118
Name MZ1KF10Tag5Preis3: Vorlage!$AZ$119
Name MZ1KF10Tag5Preis4: Vorlage!$AZ$120
Name MZ1KF10Tag5Preis5: Vorlage!$AZ$121
Name MZ1KF10TAG5Teil1: Vorlage!$U$66
Name MZ1KF10TAG5Teil2: Vorlage!$U$67
Name MZ1KF10Tag5ZUSATZ: Vorlage!$AK$8
Name MZ1KF10Tag6Inhalt: Vorlage!$AK$51
Name MZ1KF10Tag6Preis1: Vorlage!$AZ$123
Name MZ1KF10Tag6Preis2: Vorlage!$AZ$124
Name MZ1KF10Tag6Preis3: Vorlage!$AZ$125
Name MZ1KF10Tag6Preis4: Vorlage!$AZ$126
Name MZ1KF10Tag6Preis5: Vorlage!$AZ$127
Name MZ1KF10TAG6Teil1: Vorlage!$U$69
Name MZ1KF10TAG6Teil2: Vorlage!$U$70
Name MZ1KF10Tag6ZUSATZ: Vorlage!$AK$9
Name MZ1KF10Tag7Inhalt: Vorlage!$AK$52
Name MZ1KF10Tag7Preis1: Vorlage!$AZ$129
Name MZ1KF10Tag7Preis2: Vorlage!$AZ$130
Name MZ1KF10Tag7Preis3: Vorlage!$AZ$131

Sheet Vorlage
A1: V2.0 | B1: 2 | C1: 3 | D1: 4 | E1: 5 | F1: 6 | G1: 7 | H1: 8 | I1: 9 | J1: 10 | K1: 11 | L1: 12 | M1: 13 | N1: 14 | O1: 15 | P1: 16 | Q1: 17 | R1: 18 | S1: 19 | T1: 20 | U1: 21 | V1: 22 | W1: 23 | X1: 24 | Y1: 25 | Z1: 26 | AA1: 27 | AB1: 28 | AC1: 29 | AD1: 30 | AE1: 31 | AF1: 32 | AG1: 33 | AH1: 34 | AI1: 35 | AJ1: 36 | AK1: 37 | AL1: 38 | AM1: 39 | AO1: V2.0
A2: MITTAG | C2: KF1 | E2: KF2 | G2: KF3 | I2: KF4 | K2: KF5 | M2: KF6 | O2: KF7 | Q2: KF8 | S2: KF9 | U2: KF10 | W2: KF11 | Y2: KF12 | AA2: Tax pro Menü | AO2: MITTAG | AQ2: KF1 | AR2: KF2 | AS2: KF3 | AT2: KF4 | AU2: KF5 | AV2: KF6 | AW2: KF7 | AX2: KF8 | AY2: KF9 | AZ2: KF10 | BA2: KF11 | BB2: KF12
C3: Suppe | E3: Menü 1 | G3: Menü 2 | I3: Dessert | K3: Kaffee und Kuchen | AA3: MZ 1 | AB3: KF1 | AC3: KF2 | AD3: KF3 | AE3: KF4 | AF3: KF5 | AG3: KF6 | AH3: KF7 | AI3: KF8 | AJ3: KF9 | AK3: KF10 | AL3: KF11 | AM3: KF12
AA4: Tag1 | AB4: MZ1KF1Tag1ZUSATZ | AC4: MZ1KF2Tag1ZUSATZ | AD4: MZ1KF3Tag1ZUSATZ | AE4: MZ1KF4Tag1ZUSATZ | AF4: MZ1KF5Tag1ZUSATZ | AG4: MZ1KF6Tag1ZUSATZ | AH4: MZ1KF7Tag1ZUSATZ | AI4: MZ1KF8Tag1ZUSATZ | AJ4: MZ1KF9Tag1ZUSATZ | AK4: MZ1KF10Tag1ZUSATZ | AL4: MZ1KF11Tag1ZUSATZ | AM4: MZ1KF12Tag1ZUSATZ | AO4: TAG 1
A5: TAG 1 | B5: 45719 | C5: Tagessuppe | E5: Hähnchenbrust | I5: Bananen-Quarkspeise#g# | K5: Heidelbeer-Streuselkuchen#1,a,a1,c,g# | AA5: Tag2 | AB5: MZ1KF1Tag2ZUSATZ | AC5: MZ1KF2Tag2ZUSATZ | AD5: MZ1KF3Tag2ZUSATZ | AE5: MZ1KF4Tag2ZUSATZ | AF5: MZ1KF5Tag2ZUSATZ | AG5: MZ1KF6Tag2ZUSATZ | AH5: MZ1KF7Tag2ZUSATZ | AI5: MZ1KF8Tag2ZUSATZ | AJ5: MZ1KF9Tag2ZUSATZ | AK5: MZ1KF10Tag2ZUSATZ | AL5: MZ1KF11Tag2ZUSATZ | AM5: MZ1KF12Tag2ZUSATZ | AO5: Preis 1 | AQ5: 0 | AR5: 0 | AS5: 0 | AT5: 0 | AU5: 0 | AV5: MZ3KF6Tag1Preis1 | AW5: MZ3KF7Tag1Preis1 | AX5: MZ3KF8Tag1Preis1 | AY5: MZ3KF9Tag1Preis1 | AZ5: MZ3KF10Tag1Preis1 | BA5: MZ3KF11Tag1Preis1 | BB5: MZ3KF12Tag1Preis1
E6: $Butterreis#g# $Gemüse - Kokos - Curry | AA6: Tag3 | AB6: MZ1KF1Tag3ZUSATZ | AC6: MZ1KF2Tag3ZUSATZ | AD6: MZ1KF3Tag3ZUSATZ | AE6: MZ1KF4Tag3ZUSATZ | AF6: MZ1KF5Tag3ZUSATZ | AG6: MZ1KF6Tag3ZUSATZ | AH6: MZ1KF7Tag3ZUSATZ | AI6: MZ1KF8Tag3ZUSATZ | AJ6: MZ1KF9Tag3ZUSATZ | AK6: MZ1KF10Tag3ZUSATZ | AL6: MZ1KF11Tag3ZUSATZ | AM6: MZ1KF12Tag3ZUSATZ | AO6: Preis 2 | AQ6: 0 | AR6: 0 | AS6: 0 | AT6: 0 | AU6: 0 | AV6: MZ3KF6Tag1Preis2 | AW6: MZ3KF7Tag1Preis2 | AX6: MZ3KF8Tag1Preis2 | AY6: MZ3KF9Tag1Preis2 | AZ6: MZ3KF10Tag1Preis2 | BA6: MZ3KF11Tag1Preis2 | BB6: MZ3KF12Tag1Preis2
AA7: Tag4 | AB7: MZ1KF1Tag4ZUSATZ | AC7: MZ1KF2Tag4ZUSATZ | AD7: MZ1KF3Tag4ZUSATZ | AE7: MZ1KF4Tag4ZUSATZ | AF7: MZ1KF5Tag4ZUSATZ | AG7: MZ1KF6Tag4ZUSATZ | AH7: MZ1KF7Tag4ZUSATZ | AI7: MZ1KF8Tag4ZUSATZ | AJ7: MZ1KF9Tag4ZUSATZ | AK7: MZ1KF10Tag4ZUSATZ | AL7: MZ1KF11Tag4ZUSATZ | AM7: MZ1KF12Tag4ZUSATZ | AO7: Preis 3 | AQ7: 0 | AR7: 0 | AS7: 0 | AT7: 0 | AU7: 0 | AV7: MZ3KF6Tag1Preis3 | AW7: MZ3KF7Tag1Preis3 | AX7: MZ3KF8Tag1Preis3 | AY7: MZ3KF9Tag1Preis3 | AZ7: MZ3KF10Tag1Preis3 | BA7: MZ3KF11Tag1Preis3 | BB7: MZ3KF12Tag1Preis3
A8: TAG 2 | B8: 45720 | C8: Tagessuppe | E8: Gemüsestrudel#1,2,a,a1,c,g# | I8: Kirschkompott#1# | K8: hausgebackenes Gebäck | AA8: Tag5 | AB8: MZ1KF1Tag5ZUSATZ | AC8: MZ1KF2Tag5ZUSATZ | AD8: MZ1KF3Tag5ZUSATZ | AE8: MZ1KF4Tag5ZUSATZ | AF8: MZ1KF5Tag5ZUSATZ | AG8: MZ1KF6Tag5ZUSATZ | AH8: MZ1KF7Tag5ZUSATZ | AI8: MZ1KF8Tag5ZUSATZ | AJ8: MZ1KF9Tag5ZUSATZ | AK8: MZ1KF10Tag5ZUSATZ | AL8: MZ1KF11Tag5ZUSATZ | AM8: MZ1KF12Tag5ZUSATZ | AO8: Preis 4 | AQ8: 0 | AR8: 0 | AS8: 0 | AT8: 0 | AU8: 0 | AV8: MZ3KF6Tag1Preis4 | AW8: MZ3KF7Tag1Preis4 | AX8: MZ3KF8Tag1Preis4 | AY8: MZ3KF9Tag1Preis4 | AZ8: MZ3KF10Tag1Preis4 | BA8: MZ3KF11Tag1Preis4 | BB8: MZ3KF12Tag1Preis4
E9: $Kräutersauce#a,a1,g,i# $Djuvec Reis#i# | I9: $Vanillesauce#g# | AA9: Tag6 | AB9: MZ1KF1Tag6ZUSATZ | AC9: MZ1KF2Tag6ZUSATZ | AD9: MZ1KF3Tag6ZUSATZ | AE9: MZ1KF4Tag6ZUSATZ | AF9: MZ1KF5Tag6ZUSATZ | AG9: MZ1KF6Tag6ZUSATZ | AH9: MZ1KF7Tag6ZUSATZ | AI9: MZ1KF8Tag6ZUSATZ | AJ9: MZ1KF9Tag6ZUSATZ | AK9: MZ1KF10Tag6ZUSATZ | AL9: MZ1KF11Tag6ZUSATZ | AM9: MZ1KF12Tag6ZUSATZ | AO9: Preis 5 | AQ9: 0 | AR9: 0 | AS9: 0 | AT9: 0 | AU9: 0 | AV9: MZ3KF6Tag1Preis5 | AW9: MZ3KF7Tag1Preis5 | AX9: MZ3KF8Tag1Preis5 | AY9: MZ3KF9Tag1Preis5 | AZ9: MZ3KF10Tag1Preis5 | BA9: MZ3KF11Tag1Preis5 | BB9: MZ3KF12Tag1Preis5
AA10: Tag7 | AB10: MZ1KF1Tag7ZUSATZ | AC10: MZ1KF2Tag7ZUSATZ | AD10: MZ1KF3Tag7ZUSATZ | AE10: MZ1KF4Tag7ZUSATZ | AF10: MZ1KF5Tag7ZUSATZ | AG10: MZ1KF6Tag7ZUSATZ | AH10: MZ1KF7Tag7ZUSATZ | AI10: MZ1KF8Tag7ZUSATZ | AJ10: MZ1KF9Tag7ZUSATZ | AK10: MZ1KF10Tag7ZUSATZ | AL10: MZ1KF11Tag7ZUSATZ | AM10: MZ1KF12Tag7ZUSATZ | AO10: TAG 2
A11: TAG 3 | B11: 45721 | E11: Dicke Rippe#2,3,5,l# | I11: Vanillepudding#1,g# | K11: Waffeln | AA11: MZ2 | AB11: KF1 | AC11: KF2 | AD11: KF3 | AE11: KF4 | AF11: KF5 | AG11: KF6 | AH11: KF7 | AI11: KF8 | AJ11: KF9 | AK11: KF10 | AL11: KF11 | AM11: KF12 | AO11: Preis 1 | AQ11: 0 | AR11: 0 | AS11: MZ3KF3Tag2Preis1 | AT11: 0 | AU11: 0 | AV11: MZ3KF6Tag2Preis1 | AW11: MZ3KF7Tag2Preis1 | AX11: MZ3KF8Tag2Preis1 | AY11: MZ3KF9Tag2Preis1 | AZ11: MZ3KF10Tag2Preis1 | BA11: MZ3KF11Tag2Preis1 | BB11: MZ3KF12Tag2Preis1
E12: $Bratensauce#5,i,l# $Marktgemüse#g# $Kartoffelgratin | AA12: Tag1 | AB12: MZ2KF1Tag1ZUSATZ | AC12: MZ2KF2Tag1ZUSATZ | AD12: MZ2KF3Tag1ZUSATZ | AE12: MZ2KF4Tag1ZUSATZ | AF12: MZ2KF5Tag1ZUSATZ | AG12: MZ2KF6Tag1ZUSATZ | AH12: MZ2KF7Tag1ZUSATZ | AI12: MZ2KF8Tag1ZUSATZ | AJ12: MZ2KF9Tag1ZUSATZ | AK12: MZ2KF10Tag1ZUSATZ | AL12: MZ2KF11Tag1ZUSATZ | AM12: MZ2KF12Tag1ZUSATZ | AO12: Preis 2 | AQ12: 0 | AR12: 0 | AS12: MZ3KF3Tag2Preis2 | AT12: 0 | AU12: 0 | AV12: MZ3KF6Tag2Preis2 | AW12: MZ3KF7Tag2Preis2 | AX12: MZ3KF8Tag2Preis2 | AY12: MZ3KF9Tag2Preis2 | AZ12: MZ3KF10Tag2Preis2 | BA12: MZ3KF11Tag2Preis2 | BB12: MZ3KF12Tag2Preis2
AA13: Tag2 | AB13: MZ2KF1Tag2ZUSATZ | AC13: MZ2KF2Tag2ZUSATZ | AD13: MZ2KF3Tag2ZUSATZ | AE13: MZ2KF4Tag2ZUSATZ | AF13: MZ2KF5Tag2ZUSATZ | AG13: MZ2KF6Tag2ZUSATZ | AH13: MZ2KF7Tag2ZUSATZ | AI13: MZ2KF8Tag2ZUSATZ | AJ13: MZ2KF9Tag2ZUSATZ | AK13: MZ2KF10Tag2ZUSATZ | AL13: MZ2KF11Tag2ZUSATZ | AM13: MZ2KF12Tag2ZUSATZ | AO13: Preis 3 | AQ13: 0 | AR13: 0 | AS13: MZ3KF3Tag2Preis3 | AT13: 0 | AU13: 0 | AV13: MZ3KF6Tag2Preis3 | AW13: MZ3KF7Tag2Preis3 | AX13: MZ3KF8Tag2Preis3 | AY13: MZ3KF9Tag2Preis3 | AZ13: MZ3KF10Tag2Preis3 | BA13: MZ3KF11Tag2Preis3 | BB13: MZ3KF12Tag2Preis3
A14: TAG 4 | B14: 45722 | C14: Tagessuppe | E14: Hausgemachte Frikadelle#11,4,a,a1,c,j# | I14: Käsekuchencreme "New York" | K14: hausgebackenes Gebäck | AA14: Tag3 | AB14: MZ2KF1Tag3ZUSATZ | AC14: MZ2KF2Tag3ZUSATZ | AD14: MZ2KF3Tag3ZUSATZ | AE14: MZ2KF4Tag3ZUSATZ | AF14: MZ2KF5Tag3ZUSATZ | AG14: MZ2KF6Tag3ZUSATZ | AH14: MZ2KF7Tag3ZUSATZ | AI14: MZ2KF8Tag3ZUSATZ | AJ14: MZ2KF9Tag3ZUSATZ | AK14: MZ2KF10Tag3ZUSATZ | AL14: MZ2KF11Tag3ZUSATZ | AM14: MZ2KF12Tag3ZUSATZ | AO14: Preis 4 | AQ14: 0 | AR14: 0 | AS14: MZ3KF3Tag2Preis4 | AT14: 0 | AU14: 0 | AV14: MZ3KF6Tag2Preis4 | AW14: MZ3KF7Tag2Preis4 | AX14: MZ3KF8Tag2Preis4 | AY14: MZ3KF9Tag2Preis4 | AZ14: MZ3KF10Tag2Preis4 | BA14: MZ3KF11Tag2Preis4 | BB14: MZ3KF12Tag2Preis4
E15: $Champignionrahm Sauce#1,2,g# $Prinzessbohnen#g# $Bratkartoffeln | AA15: Tag4 | AB15: MZ2KF1Tag4ZUSATZ | AC15: MZ2KF2Tag4ZUSATZ | AD15: MZ2KF3Tag4ZUSATZ | AE15: MZ2KF4Tag4ZUSATZ | AF15: MZ2KF5Tag4ZUSATZ | AG15: MZ2KF6Tag4ZUSATZ | AH15: MZ2KF7Tag4ZUSATZ | AI15: MZ2KF8Tag4ZUSATZ | AJ15: MZ2KF9Tag4ZUSATZ | AK15: MZ2KF10Tag4ZUSATZ | AL15: MZ2KF11Tag4ZUSATZ | AM15: MZ2KF12Tag4ZUSATZ | AO15: Preis 5 | AQ15: 0 | AR15: 0 | AS15: MZ3KF3Tag2Preis5 | AT15: 0 | AU15: 0 | AV15: MZ3KF6Tag2Preis5 | AW15: MZ3KF7Tag2Preis5 | AX15: MZ3KF8Tag2Preis5 | AY15: MZ3KF9Tag2Preis5 | AZ15: MZ3KF10Tag2Preis5 | BA15: MZ3KF11Tag2Preis5 | BB15: MZ3KF12Tag2Preis5
AA16: Tag5 | AB16: MZ2KF1Tag5ZUSATZ | AC16: MZ2KF2Tag5ZUSATZ | AD16: MZ2KF3Tag5ZUSATZ | AE16: MZ2KF4Tag5ZUSATZ | AF16: MZ2KF5Tag5ZUSATZ | AG16: MZ2KF6Tag5ZUSATZ | AH16: MZ2KF7Tag5ZUSATZ | AI16: MZ2KF8Tag5ZUSATZ | AJ16: MZ2KF9Tag5ZUSATZ | AK16: MZ2KF10Tag5ZUSATZ | AL16: MZ2KF11Tag5ZUSATZ | AM16: MZ2KF12Tag5ZUSATZ | AO16: TAG 3
A17: TAG 5 | B17: 45723 | C17: Tagessuppe | E17: Esterhazy, fein | I17: Apfel Crumble | K17: Hausgemachter Käsekuchen#1,a,a1,c,g# | AA17: Tag6 | AB17: MZ2KF1Tag6ZUSATZ | AC17: MZ2KF2Tag6ZUSATZ | AD17: MZ2KF3Tag6ZUSATZ | AE17: MZ2KF4Tag6ZUSATZ | AF17: MZ2KF5Tag6ZUSATZ | AG17: MZ2KF6Tag6ZUSATZ | AH17: MZ2KF7Tag6ZUSATZ | AI17: MZ2KF8Tag6ZUSATZ | AJ17: MZ2KF9Tag6ZUSATZ | AK17: MZ2KF10Tag6ZUSATZ | AL17: MZ2KF11Tag6ZUSATZ | AM17: MZ2KF12Tag6ZUSATZ | AO17: Preis 1 | AQ17: MZ3KF1Tag3Preis1 | AR17: 0 | AS17: MZ3KF3Tag3Preis1 | AT17: 0 | AU17: 0 | AV17: MZ3KF6Tag3Preis1 | AW17: MZ3KF7Tag3Preis1 | AX17: MZ3KF8Tag3Preis1 | AY17: MZ3KF9Tag3Preis1 | AZ17: MZ3KF10Tag3Preis1 | BA17: MZ3KF11Tag3Preis1 | BB17: MZ3KF12Tag3Preis1
E18: $Kräuterreis#g# $Edelfischragout | AA18: Tag7 | AB18: MZ2KF1Tag7ZUSATZ | AC18: MZ2KF2Tag7ZUSATZ | AD18: MZ2KF3Tag7ZUSATZ | AE18: MZ2KF4Tag7ZUSATZ | AF18: MZ2KF5Tag7ZUSATZ | AG18: MZ2KF6Tag7ZUSATZ | AH18: MZ2KF7Tag7ZUSATZ | AI18: MZ2KF8Tag7ZUSATZ | AJ18: MZ2KF9Tag7ZUSATZ | AK18: MZ2KF10Tag7ZUSATZ | AL18: MZ2KF11Tag7ZUSATZ | AM18: MZ2KF12Tag7ZUSATZ | AO18: Preis 2 | AQ18: MZ3KF1Tag3Preis2 | AR18: 0 | AS18: MZ3KF3Tag3Preis2 | AT18: 0 | AU18: 0 | AV18: MZ3KF6Tag3Preis2 | AW18: MZ3KF7Tag3Preis2 | AX18: MZ3KF8Tag3Preis2 | AY18: MZ3KF9Tag3Preis2 | AZ18: MZ3KF10Tag3Preis2 | BA18: MZ3KF11Tag3Preis2 | BB18: MZ3KF12Tag3Preis2
AA19: MZ 3 | AB19: KF1 | AC19: KF2 | AD19: KF3 | AE19: KF4 | AF19: KF5 | AG19: KF6 | AH19: KF7 | AI19: KF8 | AJ19: KF9 | AK19: KF10 | AL19: KF11 | AM19: KF12 | AO19: Preis 3 | AQ19: MZ3KF1Tag3Preis3 | AR19: 0 | AS19: MZ3KF3Tag3Preis3 | AT19: 0 | AU19: 0 | AV19: MZ3KF6Tag3Preis3 | AW19: MZ3KF7Tag3Preis3 | AX19: MZ3KF8Tag3Preis3 | AY19: MZ3KF9Tag3Preis3 | AZ19: MZ3KF10Tag3Preis3 | BA19: MZ3KF11Tag3Preis3 | BB19: MZ3KF12Tag3Preis3
A20: TAG 6 | B20: 45724 | E20: roter Linseneintopf | I20: Reis Trautmannsdorf | K20: Crepes | AA20: Tag1 | AB20: MZ3KF1Tag1ZUSATZ | AC20: MZ3KF2Tag1ZUSATZ | AD20: MZ3KF3Tag1ZUSATZ | AE20: MZ3KF4Tag1ZUSATZ | AF20: MZ3KF5Tag1ZUSATZ | AG20: MZ3KF6Tag1ZUSATZ | AH20: MZ3KF7Tag1ZUSATZ | AI20: MZ3KF8Tag1ZUSATZ | AJ20: MZ3KF9Tag1ZUSATZ | AK20: MZ3KF10Tag1ZUSATZ | AL20: MZ3KF11Tag1ZUSATZ | AM20: MZ3KF12Tag1ZUSATZ | AO20: Preis 4 | AQ20: MZ3KF1Tag3Preis4 | AR20: 0 | AS20: MZ3KF3Tag3Preis4 | AT20: 0 | AU20: 0 | AV20: MZ3KF6Tag3Preis4 | AW20: MZ3KF7Tag3Preis4 | AX20: MZ3KF8Tag3Preis4 | AY20: MZ3KF9Tag3Preis4 | AZ20: MZ3KF10Tag3Preis4 | BA20: MZ3KF11Tag3Preis4 | BB20: MZ3KF12Tag3Preis4
AA21: Tag2 | AB21: MZ3KF1Tag2ZUSATZ | AC21: MZ3KF2Tag2ZUSATZ | AD21: MZ3KF3Tag2ZUSATZ | AE21: MZ3KF4Tag2ZUSATZ | AF21: MZ3KF5Tag2ZUSATZ | AG21: MZ3KF6Tag2ZUSATZ | AH21: MZ3KF7Tag2ZUSATZ | AI21: MZ3KF8Tag2ZUSATZ | AJ21: MZ3KF9Tag2ZUSATZ | AK21: MZ3KF10Tag2ZUSATZ | AL21: MZ3KF11Tag2ZUSATZ | AM21: MZ3KF12Tag2ZUSATZ | AO21: Preis 5 | AQ21: MZ3KF1Tag3Preis5 | AR21: 0 | AS21: MZ3KF3Tag3Preis5 | AT21: 0 | AU21: 0 | AV21: MZ3KF6Tag3Preis5 | AW21: MZ3KF7Tag3Preis5 | AX21: MZ3KF8Tag3Preis5 | AY21: MZ3KF9Tag3Preis5 | AZ21: MZ3KF10Tag3Preis5 | BA21: MZ3KF11Tag3Preis5 | BB21: MZ3KF12Tag3Preis5
AA22: Tag3 | AB22: MZ3KF1Tag3ZUSATZ | AC22: MZ3KF2Tag3ZUSATZ | AD22: MZ3KF3Tag3ZUSATZ | AE22: MZ3KF4Tag3ZUSATZ | AF22: MZ3KF5Tag3ZUSATZ | AG22: MZ3KF6Tag3ZUSATZ | AH22: MZ3KF7Tag3ZUSATZ | AI22: MZ3KF8Tag3ZUSATZ | AJ22: MZ3KF9Tag3ZUSATZ | AK22: MZ3KF10Tag3ZUSATZ | AL22: MZ3KF11Tag3ZUSATZ | AM22: MZ3KF12Tag3ZUSATZ | AO22: TAG 4
A23: TAG 7 | B23: 45725 | C23: Tagessuppe | E23: Barberie Entenkeule | I23: Creme Caramel | K23: Brownie | AA23: Tag4 | AB23: MZ3KF1Tag4ZUSATZ | AC23: MZ3KF2Tag4ZUSATZ | AD23: MZ3KF3Tag4ZUSATZ | AE23: MZ3KF4Tag4ZUSATZ | AF23: MZ3KF5Tag4ZUSATZ | AG23: MZ3KF6Tag4ZUSATZ | AH23: MZ3KF7Tag4ZUSATZ | AI23: MZ3KF8Tag4ZUSATZ | AJ23: MZ3KF9Tag4ZUSATZ | AK23: MZ3KF10Tag4ZUSATZ | AL23: MZ3KF11Tag4ZUSATZ | AM23: MZ3KF12Tag4ZUSATZ | AO23: Preis 1 | AQ23: 0 | AR23: 0 | AS23: MZ3KF3Tag4Preis1 | AT23: 0 | AU23: 0 | AV23: MZ3KF6Tag4Preis1 | AW23: MZ3KF7Tag4Preis1 | AX23: MZ3KF8Tag4Preis1 | AY23: MZ3KF9Tag4Preis1 | AZ23: MZ3KF10Tag4Preis1 | BA23: MZ3KF11Tag4Preis1 | BB23: MZ3KF12Tag4Preis1
E24: $Orangenjus $Rotkohl#11,3,5,l# $Kartoffelklöße | AA24: Tag5 | AB24: MZ3KF1Tag5ZUSATZ | AC24: MZ3KF2Tag5ZUSATZ | AD24: MZ3KF3Tag5ZUSATZ | AE24: MZ3KF4Tag5ZUSATZ | AF24: MZ3KF5Tag5ZUSATZ | AG24: MZ3KF6Tag5ZUSATZ | AH24: MZ3KF7Tag5ZUSATZ | AI24: MZ3KF8Tag5ZUSATZ | AJ24: MZ3KF9Tag5ZUSATZ | AK24: MZ3KF10Tag5ZUSATZ | AL24: MZ3KF11Tag5ZUSATZ | AM24: MZ3KF12Tag5ZUSATZ | AO24: Preis 2 | AQ24: 0 | AR24: 0 | AS24: MZ3KF3Tag4Preis2 | AT24: 0 | AU24: 0 | AV24: MZ3KF6Tag4Preis2 | AW24: MZ3KF7Tag4Preis2 | AX24: MZ3KF8Tag4Preis2 | AY24: MZ3KF9Tag4Preis2 | AZ24: MZ3KF10Tag4Preis2 | BA24: MZ3KF11Tag4Preis2 | BB24: MZ3KF12Tag4Preis2
AA25: Tag6 | AB25: MZ3KF1Tag6ZUSATZ | AC25: MZ3KF2Tag6ZUSATZ | AD25: MZ3KF3Tag6ZUSATZ | AE25: MZ3KF4Tag6ZUSATZ | AF25: MZ3KF5Tag6ZUSATZ | AG25: MZ3KF6Tag6ZUSATZ | AH25: MZ3KF7Tag6ZUSATZ | AI25: MZ3KF8Tag6ZUSATZ | AJ25: MZ3KF9Tag6ZUSATZ | AK25: MZ3KF10Tag6ZUSATZ | AL25: MZ3KF11Tag6ZUSATZ | AM25: MZ3KF12Tag6ZUSATZ | AO25: Preis 3 | AQ25: 0 | AR25: 0 | AS25: MZ3KF3Tag4Preis3 | AT25: 0 | AU25: 0 | AV25: MZ3KF6Tag4Preis3 | AW25: MZ3KF7Tag4Preis3 | AX25: MZ3KF8Tag4Preis3 | AY25: MZ3KF9Tag4Preis3 | AZ25: MZ3KF10Tag4Preis3 | BA25: MZ3KF11Tag4Preis3 | BB25: MZ3KF12Tag4Preis3
A26: Abend | AA26: Tag7 | AB26: MZ3KF1Tag7ZUSATZ | AC26: MZ3KF2Tag7ZUSATZ | AD26: MZ3KF3Tag7ZUSATZ | AE26: MZ3KF4Tag7ZUSATZ | AF26: MZ3KF5Tag7ZUSATZ | AG26: MZ3KF6Tag7ZUSATZ | AH26: MZ3KF7Tag7ZUSATZ | AI26: MZ3KF8Tag7ZUSATZ | AJ26: MZ3KF9Tag7ZUSATZ | AK26: MZ3KF10Tag7ZUSATZ | AL26: MZ3KF11Tag7ZUSATZ | AM26: MZ3KF12Tag7ZUSATZ | AO26: Preis 4 | AQ26: 0 | AR26: 0 | AS26: MZ3KF3Tag4Preis4 | AT26: 0 | AU26: 0 | AV26: MZ3KF6Tag4Preis4 | AW26: MZ3KF7Tag4Preis4 | AX26: MZ3KF8Tag4Preis4 | AY26: MZ3KF9Tag4Preis4 | AZ26: MZ3KF10Tag4Preis4 | BA26: MZ3KF11Tag4Preis4 | BB26: MZ3KF12Tag4Preis4
C27: KF1 | E27: KF2 | G27: KF3 | I27: KF4 | K27: KF5 | M27: KF6 | O27: KF7 | Q27: KF8 | S27: KF9 | U27: KF10 | W27: KF11 | Y27: KF12 | AA27: MZ 4 | AB27: KF1 | AC27: KF2 | AD27: KF3 | AE27: KF4 | AF27: KF5 | AG27: KF6 | AH27: KF7 | AI27: KF8 | AJ27: KF9 | AK27: KF10 | AL27: KF11 | AM27: KF12 | AO27: Preis 5 | AQ27: 0 | AR27: 0 | AS27: MZ3KF3Tag4Preis5 | AT27: 0 | AU27: 0 | AV27: MZ3KF6Tag4Preis5 | AW27: MZ3KF7Tag4Preis5 | AX27: MZ3KF8Tag4Preis5 | AY27: MZ3KF9Tag4Preis5 | AZ27: MZ3KF10Tag4Preis5 | BA27: MZ3KF11Tag4Preis5 | BB27: MZ3KF12Tag4Preis5
C28: Abendbrot | E28: Spätmahlzeit | AA28: Tag1 | AB28: MZ4KF1Tag1ZUSATZ | AC28: MZ4KF2Tag1ZUSATZ | AD28: MZ4KF3Tag1ZUSATZ | AE28: MZ4KF4Tag1ZUSATZ | AF28: MZ4KF5Tag1ZUSATZ | AG28: MZ4KF6Tag1ZUSATZ | AH28: MZ4KF7Tag1ZUSATZ | AI28: MZ4KF8Tag1ZUSATZ | AJ28: MZ4KF9Tag1ZUSATZ | AK28: MZ4KF10Tag1ZUSATZ | AL28: MZ4KF11Tag1ZUSATZ | AM28: MZ4KF12Tag1ZUSATZ | AO28: TAG 5
AA29: Tag2 | AB29: MZ4KF1Tag2ZUSATZ | AC29: MZ4KF2Tag2ZUSATZ | AD29: MZ4KF3Tag2ZUSATZ | AE29: MZ4KF4Tag2ZUSATZ | AF29: MZ4KF5Tag2ZUSATZ | AG29: MZ4KF6Tag2ZUSATZ | AH29: MZ4KF7Tag2ZUSATZ | AI29: MZ4KF8Tag2ZUSATZ | AJ29: MZ4KF9Tag2ZUSATZ | AK29: MZ4KF10Tag2ZUSATZ | AL29: MZ4KF11Tag2ZUSATZ | AM29: MZ4KF12Tag2ZUSATZ | AO29: Preis 1 | AQ29: 0 | AR29: 0 | AS29: MZ3KF3Tag5Preis1 | AT29: 0 | AU29: 0 | AV29: MZ3KF6Tag5Preis1 | AW29: MZ3KF7Tag5Preis1 | AX29: MZ3KF8Tag5Preis1 | AY29: MZ3KF9Tag5Preis1 | AZ29: MZ3KF10Tag5Preis1 | BA29: MZ3KF11Tag5Preis1 | BB29: MZ3KF12Tag5Preis1
A30: TAG 1 | B30: 45719 | C30: Abendbrot "nach Königs Art" | E30: gute Stulle | AA30: Tag3 | AB30: MZ4KF1Tag3ZUSATZ | AC30: MZ4KF2Tag3ZUSATZ | AD30: MZ4KF3Tag3ZUSATZ | AE30: MZ4KF4Tag3ZUSATZ | AF30: MZ4KF5Tag3ZUSATZ | AG30: MZ4KF6Tag3ZUSATZ | AH30: MZ4KF7Tag3ZUSATZ | AI30: MZ4KF8Tag3ZUSATZ | AJ30: MZ4KF9Tag3ZUSATZ | AK30: MZ4KF10Tag3ZUSATZ | AL30: MZ4KF11Tag3ZUSATZ | AM30: MZ4KF12Tag3ZUSATZ | AO30: Preis 2 | AQ30: 0 | AR30: 0 | AS30: MZ3KF3Tag5Preis2 | AT30: 0 | AU30: 0 | AV30: MZ3KF6Tag5Preis2 | AW30: MZ3KF7Tag5Preis2 | AX30: MZ3KF8Tag5Preis2 | AY30: MZ3KF9Tag5Preis2 | AZ30: MZ3KF10Tag5Preis2 | BA30: MZ3KF11Tag5Preis2 | BB30: MZ3KF12Tag5Preis2
AA31: Tag4 | AB31: MZ4KF1Tag4ZUSATZ | AC31: MZ4KF2Tag4ZUSATZ | AD31: MZ4KF3Tag4ZUSATZ | AE31: MZ4KF4Tag4ZUSATZ | AF31: MZ4KF5Tag4ZUSATZ | AG31: MZ4KF6Tag4ZUSATZ | AH31: MZ4KF7Tag4ZUSATZ | AI31: MZ4KF8Tag4ZUSATZ | AJ31: MZ4KF9Tag4ZUSATZ | AK31: MZ4KF10Tag4ZUSATZ | AL31: MZ4KF11Tag4ZUSATZ | AM31: MZ4KF12Tag4ZUSATZ | AO31: Preis 3 | AQ31: 0 | AR31: 0 | AS31: MZ3KF3Tag5Preis3 | AT31: 0 | AU31: 0 | AV31: MZ3KF6Tag5Preis3 | AW31: MZ3KF7Tag5Preis3 | AX31: MZ3KF8Tag5Preis3 | AY31: MZ3KF9Tag5Preis3 | AZ31: MZ3KF10Tag5Preis3 | BA31: MZ3KF11Tag5Preis3 | BB31: MZ3KF12Tag5Preis3
AA32: Tag5 | AB32: MZ4KF1Tag5ZUSATZ | AC32: MZ4KF2Tag5ZUSATZ | AD32: MZ4KF3Tag5ZUSATZ | AE32: MZ4KF4Tag5ZUSATZ | AF32: MZ4KF5Tag5ZUSATZ | AG32: MZ4KF6Tag5ZUSATZ | AH32: MZ4KF7Tag5ZUSATZ | AI32: MZ4KF8Tag5ZUSATZ | AJ32: MZ4KF9Tag5ZUSATZ | AK32: MZ4KF10Tag5ZUSATZ | AL32: MZ4KF11Tag5ZUSATZ | AM32: MZ4KF12Tag5ZUSATZ | AO32: Preis 4 | AQ32: 0 | AR32: 0 | AS32: MZ3KF3Tag5Preis4 | AT32: 0 | AU32: 0 | AV32: MZ3KF6Tag5Preis4 | AW32: MZ3KF7Tag5Preis4 | AX32: MZ3KF8Tag5Preis4 | AY32: MZ3KF9Tag5Preis4 | AZ32: MZ3KF10Tag5Preis4 | BA32: MZ3KF11Tag5Preis4 | BB32: MZ3KF12Tag5Preis4
A33: TAG 2 | B33: 45720 | C33: Abendbrot "nach Königs Art" | E33: saisonales Obst | AA33: Tag6 | AB33: MZ4KF1Tag6ZUSATZ | AC33: MZ4KF2Tag6ZUSATZ | AD33: MZ4KF3Tag6ZUSATZ | AE33: MZ4KF4Tag6ZUSATZ | AF33: MZ4KF5Tag6ZUSATZ | AG33: MZ4KF6Tag6ZUSATZ | AH33: MZ4KF7Tag6ZUSATZ | AI33: MZ4KF8Tag6ZUSATZ | AJ33: MZ4KF9Tag6ZUSATZ | AK33: MZ4KF10Tag6ZUSATZ | AL33: MZ4KF11Tag6ZUSATZ | AM33: MZ4KF12Tag6ZUSATZ | AO33: Preis 5 | AQ33: 0 | AR33: 0 | AS33: MZ3KF3Tag5Preis5 | AT33: 0 | AU33: 0 | AV33: MZ3KF6Tag5Preis5 | AW33: MZ3KF7Tag5Preis5 | AX33: MZ3KF8Tag5Preis5 | AY33: MZ3KF9Tag5Preis5 | AZ33: MZ3KF10Tag5Preis5 | BA33: MZ3KF11Tag5Preis5 | BB33: MZ3KF12Tag5Preis5
AA34: Tag7 | AB34: MZ4KF1Tag7ZUSATZ | AC34: MZ4KF2Tag7ZUSATZ | AD34: MZ4KF3Tag7ZUSATZ | AE34: MZ4KF4Tag7ZUSATZ | AF34: MZ4KF5Tag7ZUSATZ | AG34: MZ4KF6Tag7ZUSATZ | AH34: MZ4KF7Tag7ZUSATZ | AI34: MZ4KF8Tag7ZUSATZ | AJ34: MZ4KF9Tag7ZUSATZ | AK34: MZ4KF10Tag7ZUSATZ | AL34: MZ4KF11Tag7ZUSATZ | AM34: MZ4KF12Tag7ZUSATZ | AO34: TAG 6
AA35: MZ5 | AB35: KF1 | AC35: KF2 | AD35: KF3 | AE35: KF4 | AF35: KF5 | AG35: KF6 | AH35: KF7 | AI35: KF8 | AJ35: KF9 | AK35: KF10 | AL35: KF11 | AM35: KF12 | AO35: Preis 1 | AQ35: MZ3KF1Tag6Preis1 | AR35: 0 | AS35: MZ3KF3Tag6Preis1 | AT35: 0 | AU35: 0 | AV35: MZ3KF6Tag6Preis1 | AW35: MZ3KF7Tag6Preis1 | AX35: MZ3KF8Tag6Preis1 | AY35: MZ3KF9Tag6Preis1 | AZ35: MZ3KF10Tag6Preis1 | BA35: MZ3KF11Tag6Preis1 | BB35: MZ3KF12Tag6Preis1
A36: TAG 3 | B36: 45721 | C36: Abendbrot "nach Königs Art" | E36: Joghurt mit Einlage | AA36: Tag1 | AB36: MZ5KF1Tag1ZUSATZ | AC36: MZ5KF2Tag1ZUSATZ | AD36: MZ5KF3Tag1ZUSATZ | AE36: MZ5KF4Tag1ZUSATZ | AF36: MZ5KF5Tag1ZUSATZ | AG36: MZ5KF6Tag1ZUSATZ | AH36: MZ5KF7Tag1ZUSATZ | AI36: MZ5KF8Tag1ZUSATZ | AJ36: MZ5KF9Tag1ZUSATZ | AK36: MZ5KF10Tag1ZUSATZ | AL36: MZ5KF11Tag1ZUSATZ | AM36: MZ5KF12Tag1ZUSATZ | AO36: Preis 2 | AQ36: MZ3KF1Tag6Preis2 | AR36: 0 | AS36: MZ3KF3Tag6Preis2 | AT36: 0 | AU36: 0 | AV36: MZ3KF6Tag6Preis2 | AW36: MZ3KF7Tag6Preis2 | AX36: MZ3KF8Tag6Preis2 | AY36: MZ3KF9Tag6Preis2 | AZ36: MZ3KF10Tag6Preis2 | BA36: MZ3KF11Tag6Preis2 | BB36: MZ3KF12Tag6Preis2
AA37: Tag2 | AB37: MZ5KF1Tag2ZUSATZ | AC37: MZ5KF2Tag2ZUSATZ | AD37: MZ5KF3Tag2ZUSATZ | AE37: MZ5KF4Tag2ZUSATZ | AF37: MZ5KF5Tag2ZUSATZ | AG37: MZ5KF6Tag2ZUSATZ | AH37: MZ5KF7Tag2ZUSATZ | AI37: MZ5KF8Tag2ZUSATZ | AJ37: MZ5KF9Tag2ZUSATZ | AK37: MZ5KF10Tag2ZUSATZ | AL37: MZ5KF11Tag2ZUSATZ | AM37: MZ5KF12Tag2ZUSATZ | AO37: Preis 3 | AQ37: MZ3KF1Tag6Preis3 | AR37: 0 | AS37: MZ3KF3Tag6Preis3 | AT37: 0 | AU37: 0 | AV37: MZ3KF6Tag6Preis3 | AW37: MZ3KF7Tag6Preis3 | AX37: MZ3KF8Tag6Preis3 | AY37: MZ3KF9Tag6Preis3 | AZ37: MZ3KF10Tag6Preis3 | BA37: MZ3KF11Tag6Preis3 | BB37: MZ3KF12Tag6Preis3
AA38: Tag3 | AB38: MZ5KF1Tag3ZUSATZ | AC38: MZ5KF2Tag3ZUSATZ | AD38: MZ5KF3Tag3ZUSATZ | AE38: MZ5KF4Tag3ZUSATZ | AF38: MZ5KF5Tag3ZUSATZ | AG38: MZ5KF6Tag3ZUSATZ | AH38: MZ5KF7Tag3ZUSATZ | AI38: MZ5KF8Tag3ZUSATZ | AJ38: MZ5KF9Tag3ZUSATZ | AK38: MZ5KF10Tag3ZUSATZ | AL38: MZ5KF11Tag3ZUSATZ | AM38: MZ5KF12Tag3ZUSATZ | AO38: Preis 4 | AQ38: MZ3KF1Tag6Preis4 | AR38: 0 | AS38: MZ3KF3Tag6Preis4 | AT38: 0 | AU38: 0 | AV38: MZ3KF6Tag6Preis4 | AW38: MZ3KF7Tag6Preis4 | AX38: MZ3KF8Tag6Preis4 | AY38: MZ3KF9Tag6Preis4 | AZ38: MZ3KF10Tag6Preis4 | BA38: MZ3KF11Tag6Preis4 | BB38: MZ3KF12Tag6Preis4
A39: TAG 4 | B39: 45722 | C39: Abendbrot "nach Königs Art" | E39: Milchshake/ Smoothie | AA39: Tag4 | AB39: MZ5KF1Tag4ZUSATZ | AC39: MZ5KF2Tag4ZUSATZ | AD39: MZ5KF3Tag4ZUSATZ | AE39: MZ5KF4Tag4ZUSATZ | AF39: MZ5KF5Tag4ZUSATZ | AG39: MZ5KF6Tag4ZUSATZ | AH39: MZ5KF7Tag4ZUSATZ | AI39: MZ5KF8Tag4ZUSATZ | AJ39: MZ5KF9Tag4ZUSATZ | AK39: MZ5KF10Tag4ZUSATZ | AL39: MZ5KF11Tag4ZUSATZ | AM39: MZ5KF12Tag4ZUSATZ | AO39: Preis 5 | AQ39: MZ3KF1Tag6Preis5 | AR39: 0 | AS39: MZ3KF3Tag6Preis5 | AT39: 0 | AU39: 0 | AV39: MZ3KF6Tag6Preis5 | AW39: MZ3KF7Tag6Preis5 | AX39: MZ3KF8Tag6Preis5 | AY39: MZ3KF9Tag6Preis5 | AZ39: MZ3KF10Tag6Preis5 | BA39: MZ3KF11Tag6Preis5 | BB39: MZ3KF12Tag6Preis5
AA40: Tag5 | AB40: MZ5KF1Tag5ZUSATZ | AC40: MZ5KF2Tag5ZUSATZ | AD40: MZ5KF3Tag5ZUSATZ | AE40: MZ5KF4Tag5ZUSATZ | AF40: MZ5KF5Tag5ZUSATZ | AG40: MZ5KF6Tag5ZUSATZ | AH40: MZ5KF7Tag5ZUSATZ | AI40: MZ5KF8Tag5ZUSATZ | AJ40: MZ5KF9Tag5ZUSATZ | AK40: MZ5KF10Tag5ZUSATZ | AL40: MZ5KF11Tag5ZUSATZ | AM40: MZ5KF12Tag5ZUSATZ | AO40: TAG 7
...

Sheet Kostform
B1: =B2 -> Suppe | C1: =C2 -> Menü 1 | D1: =D2 -> Menü 2 | E1: =E2 -> Dessert | F1: =F2 -> Kaffee und Kuchen | G1: =G2 -> 0 | H1: =H2 -> 0 | I1: =I2 -> 0 | ... M1: =M2 -> 0
B2: =MZ3KF1 -> Suppe | C2: =MZ3KF2 -> Menü 1 | D2: =MZ3KF3 -> Menü 2 | E2: =MZ3KF4 -> Dessert | F2: =MZ3KF5 -> Kaffee und Kuchen | G2: =MZ3KF6 -> 0 | H2: =MZ3KF7 -> 0 | I2: =MZ3KF8 -> 0 | J2: =MZ3KF9 -> 0 | K2: =MZ3KF10 -> 0 | L2: =MZ3KF11 -> 0 | M2: =MZ3KF12 -> 0
A4: =Vorlage!B5 -> 45719 | B4: =CONCATENATE(Vorlage!C5," ",Vorlage!C6) -> Tagessuppe | C4: =CONCATENATE(Vorlage!E5," ",Vorlage!E6) -> Hähnchenbrust $Butterreis#g# $Gemüse - Kokos - Curry | D4: =CONCATENATE(Vorlage!G5," ",Vorlage!G6) | E4: =CONCATENATE(Vorlage!I5," ",Vorlage!I6) -> Bananen-Quarkspeise#g# | F4: =CONCATENATE(Vorlage!K5," ",Vorlage!K6) -> Heidelbeer-Streuselkuchen#1,a,a1,c,g# | G4: =CONCATENATE(Vorlage!M5," ",Vorlage!M6) | H4: =CONCATENATE(Vorlage!O5," ",Vorlage!O6) | I4: =CONCATENATE(Vorlage!Q5," ",Vorlage!Q6) | J4: =CONCATENATE(Vorlage!S5," ",Vorlage!S6) | K4: =CONCATENATE(Vorlage!U5," ",Vorlage!U6) | L4: =CONCATENATE(Vorlage!W5," ",Vorlage!W6) | M4: =CONCATENATE(Vorlage!Y5," ",Vorlage!Y6)
A10: =Vorlage!B8 -> 45720 | B10: =CONCATENATE(Vorlage!C8," ",Vorlage!C9) -> Tagessuppe | C10: =CONCATENATE(Vorlage!E8," ",Vorlage!E9) -> Gemüsestrudel#1,2,a,a1,c,g# $Kräutersauce#a,a1,g,i# $Djuvec Reis#i# | D10: =CONCATENATE(Vorlage!G8," ",Vorlage!G9) | E10: =CONCATENATE(Vorlage!I8," ",Vorlage!I9) -> Kirschkompott#1# $Vanillesauce#g# | F10: =CONCATENATE(Vorlage!K8," ",Vorlage!K9) -> hausgebackenes Gebäck | G10: =CONCATENATE(Vorlage!M8," ",Vorlage!M9) | H10: =CONCATENATE(Vorlage!O8," ",Vorlage!O9) | I10: =CONCATENATE(Vorlage!Q8," ",Vorlage!Q9) | J10: =CONCATENATE(Vorlage!S8," ",Vorlage!S9) | K10: =CONCATENATE(Vorlage!U8," ",Vorlage!U9) | L10: =CONCATENATE(Vorlage!W8," ",Vorlage!W9) | M10: =CONCATENATE(Vorlage!Y8," ",Vorlage!Y9)
A16: =Vorlage!B11 -> 45721 | B16: =CONCATENATE(Vorlage!C11," ",Vorlage!C12) | C16: =CONCATENATE(Vorlage!E11," ",Vorlage!E12) -> Dicke Rippe#2,3,5,l# $Bratensauce#5,i,l# $Marktgemüse#g# $Kartoffelgratin | D16: =CONCATENATE(Vorlage!G11," ",Vorlage!G12) | E16: =CONCATENATE(Vorlage!I11," ",Vorlage!I12) -> Vanillepudding#1,g# | F16: =CONCATENATE(Vorlage!K11," ",Vorlage!K12) -> Waffeln | G16: =CONCATENATE(Vorlage!M11," ",Vorlage!M12) | H16: =CONCATENATE(Vorlage!O11," ",Vorlage!O12) | I16: =CONCATENATE(Vorlage!Q11," ",Vorlage!Q12) | J16: =CONCATENATE(Vorlage!S11," ",Vorlage!S12) | K16: =CONCATENATE(Vorlage!U11," ",Vorlage!U12) | L16: =CONCATENATE(Vorlage!W11," ",Vorlage!W12) | M16: =CONCATENATE(Vorlage!Y11," ",Vorlage!Y12)
A22: =Vorlage!B14 -> 45722 | B22: =CONCATENATE(Vorlage!C14," ",Vorlage!C15) -> Tagessuppe | C22: =CONCATENATE(Vorlage!E14," ",Vorlage!E15) -> Hausgemachte Frikadelle#11,4,a,a1,c,j# $Champignionrahm Sauce#1,2,g# $Prinzessbohnen#g# $Bratkartoffeln | D22: =CONCATENATE(Vorlage!G14," ",Vorlage!G15) | E22: =CONCATENATE(Vorlage!I14," ",Vorlage!I15) -> Käsekuchencreme "New York" | F22: =CONCATENATE(Vorlage!K14," ",Vorlage!K15) -> hausgebackenes Gebäck | G22: =CONCATENATE(Vorlage!M14," ",Vorlage!M15) | H22: =CONCATENATE(Vorlage!O14," ",Vorlage!O15) | I22: =CONCATENATE(Vorlage!Q14," ",Vorlage!Q15) | J22: =CONCATENATE(Vorlage!S14," ",Vorlage!S15) | K22: =CONCATENATE(Vorlage!U14," ",Vorlage!U15) | L22: =CONCATENATE(Vorlage!W14," ",Vorlage!W15) | M22: =CONCATENATE(Vorlage!Y14," ",Vorlage!Y15)
A28: =Vorlage!B17 -> 45723 | B28: =CONCATENATE(Vorlage!C17," ",Vorlage!C18) -> Tagessuppe | C28: =CONCATENATE(Vorlage!E17," ",Vorlage!E18) -> Esterhazy, fein $Kräuterreis#g# $Edelfischragout | D28: =CONCATENATE(Vorlage!G17,Vorlage!G18) | E28: =CONCATENATE(Vorlage!I17," ",Vorlage!I18) -> Apfel Crumble | F28: =CONCATENATE(Vorlage!K17," ",Vorlage!K18) -> Hausgemachter Käsekuchen#1,a,a1,c,g# | G28: =CONCATENATE(Vorlage!M17," ",Vorlage!M18) | H28: =CONCATENATE(Vorlage!O17," ",Vorlage!O18) | I28: =CONCATENATE(Vorlage!Q17," ",Vorlage!Q18) | J28: =CONCATENATE(Vorlage!S17," ",Vorlage!S18) | K28: =CONCATENATE(Vorlage!U17," ",Vorlage!U18) | L28: =CONCATENATE(Vorlage!W17," ",Vorlage!W18) | M28: =CONCATENATE(Vorlage!Y17," ",Vorlage!Y18)
A34: =Vorlage!B20 -> 45724 | B34: =CONCATENATE(Vorlage!C20," ",Vorlage!C21) | C34: =CONCATENATE(Vorlage!E20," ",Vorlage!E21) -> roter Linseneintopf | D34: =CONCATENATE(Vorlage!G20," ",Vorlage!G21) | E34: =CONCATENATE(Vorlage!I20," ",Vorlage!I21) -> Reis Trautmannsdorf | F34: =CONCATENATE(Vorlage!K20," ",Vorlage!K21) -> Crepes | G34: =CONCATENATE(Vorlage!M20," ",Vorlage!M21) | H34: =CONCATENATE(Vorlage!O20," ",Vorlage!O21) | I34: =CONCATENATE(Vorlage!Q20," ",Vorlage!Q21) | J34: =CONCATENATE(Vorlage!S20," ",Vorlage!S21) | K34: =CONCATENATE(Vorlage!U20," ",Vorlage!U21) | L34: =CONCATENATE(Vorlage!W20," ",Vorlage!W21) | M34: =CONCATENATE(Vorlage!Y20," ",Vorlage!Y21)
A40: =Vorlage!B23 -> 45725 | B40: =CONCATENATE(Vorlage!C23," ",Vorlage!C24) -> Tagessuppe | C40: =CONCATENATE(Vorlage!E23," ",Vorlage!E24) -> Barberie Entenkeule $Orangenjus $Rotkohl#11,3,5,l# $Kartoffelklöße | D40: =CONCATENATE(Vorlage!G23," ",Vorlage!G24) | E40: =CONCATENATE(Vorlage!I23," ",Vorlage!I24) -> Creme Caramel | F40: =CONCATENATE(Vorlage!K23," ",Vorlage!K24) -> Brownie | G40: =CONCATENATE(Vorlage!M23," ",Vorlage!M24) | H40: =CONCATENATE(Vorlage!O23," ",Vorlage!O24) | I40: =CONCATENATE(Vorlage!Q23," ",Vorlage!Q24) | J40: =CONCATENATE(Vorlage!S23," ",Vorlage!S24) | K40: =CONCATENATE(Vorlage!U23," ",Vorlage!U24) | L40: =CONCATENATE(Vorlage!W23," ",Vorlage!W24) | M40: =CONCATENATE(Vorlage!Y23," ",Vorlage!Y24)
B46: Abend
B47: =MZ5KF1 -> Abendbrot | C47: =MZ5KF2 -> Spätmahlzeit | D47: =MZ5KF3 -> 0 | E47: =MZ5KF4 -> 0 | F47: =MZ5KF5 -> 0 | G47: =MZ5KF6 -> 0 | H47: =MZ5KF7 -> 0 | I47: =MZ5KF8 -> 0 | J47: =MZ5KF9 -> 0 | K47: =MZ5KF10 -> 0 | L47: =MZ5KF11 -> 0 | M47: =MZ5KF12 -> 0
A49: =A4 -> 45719 | B49: =CONCATENATE(Vorlage!C30," ",Vorlage!C31) -> Abendbrot "nach Königs Art" | C49: =CONCATENATE(Vorlage!E30," ",Vorlage!E31) -> gute Stulle | D49: =CONCATENATE(Vorlage!G30," ",Vorlage!G31) | E49: =CONCATENATE(Vorlage!I30," ",Vorlage!I31) | F49: =CONCATENATE(Vorlage!K30," ",Vorlage!K31) | G49: =CONCATENATE(Vorlage!M30," ",Vorlage!M31) | H49: =CONCATENATE(Vorlage!O30," ",Vorlage!O31) | I49: =CONCATENATE(Vorlage!O30," ",Vorlage!O31) | J49: =CONCATENATE(Vorlage!S30," ",Vorlage!S31) | K49: =CONCATENATE(Vorlage!U30," ",Vorlage!U31) | L49: =CONCATENATE(Vorlage!W30," ",Vorlage!W31) | M49: =CONCATENATE(Vorlage!Y30," ",Vorlage!Y31)
A55: =A10 -> 45720 | B55: =CONCATENATE(Vorlage!C33," ",Vorlage!C34) -> Abendbrot "nach Königs Art" | C55: =CONCATENATE(Vorlage!E33," ",Vorlage!E34) -> saisonales Obst | D55: =CONCATENATE(Vorlage!G33," ",Vorlage!G34) | E55: =CONCATENATE(Vorlage!I33," ",Vorlage!I34) | F55: =CONCATENATE(Vorlage!K33," ",Vorlage!K34) | G55: =CONCATENATE(Vorlage!M33," ",Vorlage!M34) | H55: =CONCATENATE(Vorlage!O33," ",Vorlage!O34) | I55: =CONCATENATE(Vorlage!O33," ",Vorlage!O34) | J55: =CONCATENATE(Vorlage!S33," ",Vorlage!S34) | K55: =CONCATENATE(Vorlage!U33," ",Vorlage!U34) | L55: =CONCATENATE(Vorlage!W33," ",Vorlage!W34) | M55: =CONCATENATE(Vorlage!Y33," ",Vorlage!Y34)
A61: =A16 -> 45721 | B61: =CONCATENATE(Vorlage!C36," ",Vorlage!C37) -> Abendbrot "nach Königs Art" | C61: =CONCATENATE(Vorlage!E36," ",Vorlage!E37) -> Joghurt mit Einlage | D61: =CONCATENATE(Vorlage!G36," ",Vorlage!G37) | E61: =CONCATENATE(Vorlage!I36," ",Vorlage!I37) | F61: =CONCATENATE(Vorlage!K36," ",Vorlage!K37) | G61: =CONCATENATE(Vorlage!M36," ",Vorlage!M37) | H61: =CONCATENATE(Vorlage!O36," ",Vorlage!O37) | I61: =CONCATENATE(Vorlage!O36," ",Vorlage!O37) | J61: =CONCATENATE(Vorlage!S36," ",Vorlage!S37) | K61: =CONCATENATE(Vorlage!U36," ",Vorlage!U37) | L61: =CONCATENATE(Vorlage!W36," ",Vorlage!W37) | M61: =CONCATENATE(Vorlage!Y36," ",Vorlage!Y37)
A67: =A22 -> 45722 | B67: =CONCATENATE(Vorlage!C39," ",Vorlage!C40) -> Abendbrot "nach Königs Art" | C67: =CONCATENATE(Vorlage!E39," ",Vorlage!E40) -> Milchshake/ Smoothie | D67: =CONCATENATE(Vorlage!G39," ",Vorlage!G40) | E67: =CONCATENATE(Vorlage!I39," ",Vorlage!I40) | F67: =CONCATENATE(Vorlage!K39," ",Vorlage!K40) | G67: =CONCATENATE(Vorlage!M39," ",Vorlage!M40) | H67: =CONCATENATE(Vorlage!O39," ",Vorlage!O40) | I67: =CONCATENATE(Vorlage!O39," ",Vorlage!O40) | J67: =CONCATENATE(Vorlage!S39," ",Vorlage!S40) | K67: =CONCATENATE(Vorlage!U39," ",Vorlage!U40) | L67: =CONCATENATE(Vorlage!W39," ",Vorlage!W40) | M67: =CONCATENATE(Vorlage!Y39," ",Vorlage!Y40)
A73: =A28 -> 45723 | B73: =CONCATENATE(Vorlage!C42," ",Vorlage!C43) -> Abendbrot "nach Königs Art" | C73: =CONCATENATE(Vorlage!E42," ",Vorlage!E43) -> gute Stulle | D73: =CONCATENATE(Vorlage!G42," ",Vorlage!G43) | E73: =CONCATENATE(Vorlage!I42," ",Vorlage!I43) | F73: =CONCATENATE(Vorlage!K42," ",Vorlage!K43) | G73: =CONCATENATE(Vorlage!M42," ",Vorlage!M43) | H73: =CONCATENATE(Vorlage!O42," ",Vorlage!O43) | I73: =CONCATENATE(Vorlage!O42," ",Vorlage!O43) | J73: =CONCATENATE(Vorlage!S42," ",Vorlage!S43) | K73: =CONCATENATE(Vorlage!U42," ",Vorlage!U43) | L73: =CONCATENATE(Vorlage!W42," ",Vorlage!W43) | M73: =CONCATENATE(Vorlage!Y42," ",Vorlage!Y43)
A79: =A34 -> 45724 | B79: =CONCATENATE(Vorlage!C45," ",Vorlage!C46) -> Abendbrot "nach Königs Art" | C79: =CONCATENATE(Vorlage!E45," ",Vorlage!E46) -> saisonales Obst | D79: =CONCATENATE(Vorlage!G45," ",Vorlage!G46) | E79: =CONCATENATE(Vorlage!I45," ",Vorlage!I46) | F79: =CONCATENATE(Vorlage!K45," ",Vorlage!K46) | G79: =CONCATENATE(Vorlage!M45," ",Vorlage!M46) | H79: =CONCATENATE(Vorlage!O45," ",Vorlage!O46) | I79: =CONCATENATE(Vorlage!O45," ",Vorlage!O46) | J79: =CONCATENATE(Vorlage!S45," ",Vorlage!S46) | K79: =CONCATENATE(Vorlage!U45," ",Vorlage!U46) | L79: =CONCATENATE(Vorlage!W45," ",Vorlage!W46) | M79: =CONCATENATE(Vorlage!Y45," ",Vorlage!Y46)
A85: =A40 -> 45725 | B85: =CONCATENATE(Vorlage!C48," ",Vorlage!C49) -> Abendbrot "nach Königs Art" | C85: =CONCATENATE(Vorlage!E48," ",Vorlage!E49) -> Joghurt mit Einlage | D85: =CONCATENATE(Vorlage!G48," ",Vorlage!G49) | E85: =CONCATENATE(Vorlage!I48," ",Vorlage!I49) | F85: =CONCATENATE(Vorlage!K48," ",Vorlage!K49) | G85: =CONCATENATE(Vorlage!M48,Vorlage!M49) | H85: =CONCATENATE(Vorlage!O48,Vorlage!O49) | I85: =CONCATENATE(Vorlage!O48,Vorlage!O49) | J85: =CONCATENATE(Vorlage!S48,Vorlage!S49) | K85: =CONCATENATE(Vorlage!U48,Vorlage!U49) | L85: =CONCATENATE(Vorlage!W48,Vorlage!W49) | M85: =CONCATENATE(Vorlage!Y48,Vorlage!Y49)
B91: Frühstück
B92: =MZ5KF1 -> Abendbrot | C92: =MZ5KF2 -> Spätmahlzeit | D92: =MZ5KF3 -> 0 | E92: =MZ5KF4 -> 0 | F92: =MZ5KF5 -> 0 | G92: =MZ5KF6 -> 0 | H92: =MZ5KF7 -> 0 | I92: =MZ5KF8 -> 0 | J92: =MZ5KF9 -> 0 | K92: =MZ5KF10 -> 0 | L92: =MZ5KF11 -> 0 | M92: =MZ5KF12 -> 0
A94: =A49 -> 45719 | B94: =CONCATENATE(Vorlage!$C$54," ",Vorlage!$C$55) -> Frühstück "Weitblick" | C94: =CONCATENATE(Vorlage!$E$54," ",Vorlage!$E$55) -> gute Stulle | D94: =CONCATENATE(Vorlage!$G$54," ",Vorlage!$G$55) -> MZ1KF3TAG1Teil1 MZ1KF3TAG1Teil2 | E94: =CONCATENATE(Vorlage!$I$54," ",Vorlage!$I$55) -> MZ1KF4TAG1Teil1 MZ1KF4TAG1Teil2 | F94: =CONCATENATE(Vorlage!$K$54," ",Vorlage!$K$55) -> MZ1KF5TAG1Teil1 MZ1KF5TAG1Teil2 | G94: =CONCATENATE(Vorlage!$M$54," ",Vorlage!$M$55) -> MZ1KF6TAG1Teil1 MZ1KF6TAG1Teil2 | H94: =CONCATENATE(Vorlage!$O$54," ",Vorlage!$O$55) -> MZ1KF7TAG1Teil1 MZ1KF7TAG1Teil2 | I94: =CONCATENATE(Vorlage!$Q$54," ",Vorlage!$Q$55) -> MZ1KF8TAG1Teil1 MZ1KF8TAG1Teil2 | J94: =CONCATENATE(Vorlage!$S$54," ",Vorlage!$S$55) -> MZ1KF9TAG1Teil1 MZ1KF9TAG1Teil2 | K94: =CONCATENATE(Vorlage!$U$54," ",Vorlage!$U$55) -> MZ1KF10TAG1Teil1 MZ1KF10TAG1Teil2 | L94: =CONCATENATE(Vorlage!$W$54," ",Vorlage!$W$55) -> MZ1KF11TAG1Teil1 MZ1KF11TAG1Teil2 | M94: =CONCATENATE(Vorlage!$Y$54," ",Vorlage!$Y$55) -> MZ1KF12TAG1Teil1 MZ1KF12TAG1Teil2
A100: =A55 -> 45720 | B100: =CONCATENATE(Vorlage!$C$57," ",Vorlage!$C$58) -> Frühstück "Weitblick" | C100: =CONCATENATE(Vorlage!$E$57," ",Vorlage!$E$58) -> saisonales Obst | D100: =CONCATENATE(Vorlage!$G$57," ",Vorlage!$G$58) -> MZ1KF3TAG2Teil1 MZ1KF3TAG2Teil2 | E100: =CONCATENATE(Vorlage!$I$57," ",Vorlage!$I$58) -> MZ1KF4TAG2Teil1 MZ1KF4TAG2Teil2 | F100: =CONCATENATE(Vorlage!$K$57," ",Vorlage!$K$58) -> MZ1KF5TAG2Teil1 MZ1KF5TAG2Teil2 | G100: =CONCATENATE(Vorlage!$M$57," ",Vorlage!$M$58) -> MZ1KF6TAG2Teil1 MZ1KF6TAG2Teil2 | H100: =CONCATENATE(Vorlage!$O$57," ",Vorlage!$O$58) -> MZ1KF7TAG2Teil1 MZ1KF7TAG2Teil2 | I100: =CONCATENATE(Vorlage!$Q$57," ",Vorlage!$Q$58) -> MZ1KF8TAG2Teil1 MZ1KF8TAG2Teil2 | J100: =CONCATENATE(Vorlage!$S$57," ",Vorlage!$S$58) -> MZ1KF9TAG2Teil1 MZ1KF9TAG2Teil2 | K100: =CONCATENATE(Vorlage!$U$57," ",Vorlage!$U$58) -> MZ1KF10TAG2Teil1 MZ1KF10TAG2Teil2 | L100: =CONCATENATE(Vorlage!$W$57," ",Vorlage!$W$58) -> MZ1KF11TAG2Teil1 MZ1KF11TAG2Teil2 | M100: =CONCATENATE(Vorlage!$Y$57," ",Vorlage!$Y$58) -> MZ1KF12TAG2Teil1 MZ1KF12TAG2Teil2
A106: =A61 -> 45721 | B106: =CONCATENATE(Vorlage!$C$60," ",Vorlage!$C$61) -> Frühstück "Weitblick" + Ei | C106: =CONCATENATE(Vorlage!$E$60," ",Vorlage!$E$61) -> Joghurt mit Einlage | D106: =CONCATENATE(Vorlage!$G$60," ",Vorlage!$G$61) -> MZ1KF3TAG3Teil1 MZ1KF3TAG3Teil2 | E106: =CONCATENATE(Vorlage!$I$60," ",Vorlage!$I$61) -> MZ1KF4TAG3Teil1 MZ1KF4TAG3Teil2 | F106: =CONCATENATE(Vorlage!$K$60," ",Vorlage!$K$61) -> MZ1KF5TAG3Teil1 MZ1KF5TAG3Teil2 | G106: =CONCATENATE(Vorlage!$M$60," ",Vorlage!$M$61) -> MZ1KF6TAG3Teil1 MZ1KF6TAG3Teil2 | H106: =CONCATENATE(Vorlage!$O$60," ",Vorlage!$O$61) -> MZ1KF7TAG3Teil1 MZ1KF7TAG3Teil2 | I106: =CONCATENATE(Vorlage!$Q$60," ",Vorlage!$Q$61) -> MZ1KF8TAG3Teil1 MZ1KF8TAG3Teil2 | J106: =CONCATENATE(Vorlage!$S$60," ",Vorlage!$S$61) -> MZ1KF9TAG3Teil1 MZ1KF9TAG3Teil2 | K106: =CONCATENATE(Vorlage!$U$60," ",Vorlage!$U$61) -> MZ1KF10TAG3Teil1 MZ1KF10TAG3Teil2 | L106: =CONCATENATE(Vorlage!$W$60," ",Vorlage!$W$61) -> MZ1KF11TAG3Teil1 MZ1KF11TAG3Teil2 | M106: =CONCATENATE(Vorlage!$Y$60," ",Vorlage!$Y$61) -> MZ1KF12TAG3Teil1 MZ1KF12TAG3Teil2
A112: =A67 -> 45722 | B112: =CONCATENATE(Vorlage!$C$63," ",Vorlage!$C$64) -> Frühstück "Weitblick" | C112: =CONCATENATE(Vorlage!$E$63," ",Vorlage!$E$64) -> Milchshake/ Smoothie | D112: =CONCATENATE(Vorlage!$G$63," ",Vorlage!$G$64) -> MZ1KF3TAG4Teil1 MZ1KF3TAG4Teil2 | E112: =CONCATENATE(Vorlage!$I$63," ",Vorlage!$I$64) -> MZ1KF4TAG4Teil1 MZ1KF4TAG4Teil2 | F112: =CONCATENATE(Vorlage!$K$63," ",Vorlage!$K$64) -> MZ1KF5TAG4Teil1 MZ1KF5TAG4Teil2 | G112: =CONCATENATE(Vorlage!$M$63," ",Vorlage!$M$64) -> MZ1KF6TAG4Teil1 MZ1KF6TAG4Teil2 | H112: =CONCATENATE(Vorlage!$O$63," ",Vorlage!$O$64) -> MZ1KF7TAG4Teil1 MZ1KF7TAG4Teil2 | I112: =CONCATENATE(Vorlage!$Q$63," ",Vorlage!$Q$64) -> MZ1KF8TAG4Teil1 MZ1KF8TAG4Teil2 | J112: =CONCATENATE(Vorlage!$S$63," ",Vorlage!$S$64) -> MZ1KF9TAG4Teil1 MZ1KF9TAG4Teil2 | K112: =CONCATENATE(Vorlage!$U$63," ",Vorlage!$U$64) -> MZ1KF10TAG4Teil1 MZ1KF10TAG4Teil2 | L112: =CONCATENATE(Vorlage!$W$63," ",Vorlage!$W$64) -> MZ1KF11TAG4Teil1 MZ1KF11TAG4Teil2 | M112: =CONCATENATE(Vorlage!$Y$63," ",Vorlage!$Y$64) -> MZ1KF12TAG4Teil1 MZ1KF12TAG4Teil2
A118: =A73 -> 45723 | B118: =CONCATENATE(Vorlage!$C$66," ",Vorlage!$C$67) -> Frühstück "Weitblick" | C118: =CONCATENATE(Vorlage!$E$66," ",Vorlage!$E$67) -> gute Stulle | D118: =CONCATENATE(Vorlage!$G$66," ",Vorlage!$G$67) -> MZ1KF3TAG5Teil1 MZ1KF3TAG5Teil2 | E118: =CONCATENATE(Vorlage!$I$66," ",Vorlage!$I$67) -> MZ1KF4TAG5Teil1 MZ1KF4TAG5Teil2 | F118: =CONCATENATE(Vorlage!$K$66," ",Vorlage!$K$67) -> MZ1KF5TAG5Teil1 MZ1KF5TAG5Teil2 | G118: =CONCATENATE(Vorlage!$M$66," ",Vorlage!$M$67) -> MZ1KF6TAG5Teil1 MZ1KF6TAG5Teil2 | H118: =CONCATENATE(Vorlage!$O$66," ",Vorlage!$O$67) -> MZ1KF7TAG5Teil1 MZ1KF7TAG5Teil2 | I118: =CONCATENATE(Vorlage!$Q$66," ",Vorlage!$Q$67) -> MZ1KF8TAG5Teil1 MZ1KF8TAG5Teil2 | J118: =CONCATENATE(Vorlage!$S$66," ",Vorlage!$S$67) -> MZ1KF9TAG5Teil1 MZ1KF9TAG5Teil2 | K118: =CONCATENATE(Vorlage!$U$66," ",Vorlage!$U$67) -> MZ1KF10TAG5Teil1 MZ1KF10TAG5Teil2 | L118: =CONCATENATE(Vorlage!$W$66," ",Vorlage!$W$67) -> MZ1KF11TAG5Teil1 MZ1KF11TAG5Teil2 | M118: =CONCATENATE(Vorlage!$Y$66," ",Vorlage!$Y$67) -> MZ1KF12TAG5Teil1 MZ1KF12TAG5Teil2
A124: =A79 -> 45724 | B124: =CONCATENATE(Vorlage!$C$69," ",Vorlage!$C$70) -> Frühstück "Weitblick" | C124: =CONCATENATE(Vorlage!$E$69," ",Vorlage!$E$70) -> saisonales Obst | D124: =CONCATENATE(Vorlage!$G$69," ",Vorlage!$G$70) -> MZ1KF3TAG6Teil1 MZ1KF3TAG6Teil2 | E124: =CONCATENATE(Vorlage!$I$69," ",Vorlage!$I$70) -> MZ1KF4TAG6Teil1 MZ1KF4TAG6Teil2 | F124: =CONCATENATE(Vorlage!$K$69," ",Vorlage!$K$70) -> MZ1KF5TAG6Teil1 MZ1KF5TAG6Teil2 | G124: =CONCATENATE(Vorlage!$M$69," ",Vorlage!$M$70) -> MZ1KF6TAG6Teil1 MZ1KF6TAG6Teil2 | H124: =CONCATENATE(Vorlage!$O$69," ",Vorlage!$O$70) -> MZ1KF7TAG6Teil1 MZ1KF7TAG6Teil2 | I124: =CONCATENATE(Vorlage!$Q$69," ",Vorlage!$Q$70) -> MZ1KF8TAG6Teil1 MZ1KF8TAG6Teil2 | J124: =CONCATENATE(Vorlage!$S$69," ",Vorlage!$S$70) -> MZ1KF9TAG6Teil1 MZ1KF9TAG6Teil2 | K124: =CONCATENATE(Vorlage!$U$69," ",Vorlage!$U$70) -> MZ1KF10TAG6Teil1 MZ1KF10TAG6Teil2 | L124: =CONCATENATE(Vorlage!$W$69," ",Vorlage!$W$70) -> MZ1KF11TAG6Teil1 MZ1KF11TAG6Teil2 | M124: =CONCATENATE(Vorlage!$Y$69," ",Vorlage!$Y$70) -> MZ1KF12TAG6Teil1 MZ1KF12TAG6Teil2
A130: =A85 -> 45725 | B130: =CONCATENATE(Vorlage!$C$72," ",Vorlage!$C$73) -> Frühstück "Weitblick" + Rührei | C130: =CONCATENATE(Vorlage!$E$72," ",Vorlage!$E$73) -> Joghurt mit Einlage | D130: =CONCATENATE(Vorlage!$G$72," ",Vorlage!$G$73) -> MZ1KF3TAG7Teil1 MZ1KF3TAG7Teil2 | E130: =CONCATENATE(Vorlage!$I$72," ",Vorlage!$I$73) -> MZ1KF4TAG7Teil1 MZ1KF4TAG7Teil2 | F130: =CONCATENATE(Vorlage!$K$72," ",Vorlage!$K$73) -> MZ1KF5TAG7Teil1 MZ1KF5TAG7Teil2 | G130: =CONCATENATE(Vorlage!$M$72," ",Vorlage!$M$73) -> MZ1KF6TAG7Teil1 MZ1KF6TAG7Teil2 | H130: =CONCATENATE(Vorlage!$O$72," ",Vorlage!$O$73) -> MZ1KF7TAG7Teil1 MZ1KF7TAG7Teil2 | I130: =CONCATENATE(Vorlage!$Q$72," ",Vorlage!$Q$73) -> MZ1KF8TAG7Teil1 MZ1KF8TAG7Teil2 | J130: =CONCATENATE(Vorlage!$S$72," ",Vorlage!$S$73) -> MZ1KF9TAG7Teil1 MZ1KF9TAG7Teil2 | K130: =CONCATENATE(Vorlage!$U$72," ",Vorlage!$U$73) -> MZ1KF10TAG7Teil1 MZ1KF10TAG7Teil2 | L130: =CONCATENATE(Vorlage!$W$72," ",Vorlage!$W$73) -> MZ1KF11TAG7Teil1 MZ1KF11TAG7Teil2 | M130: =CONCATENATE(Vorlage!$Y$72," ",Vorlage!$Y$73) -> MZ1KF12TAG7Teil1 MZ1KF12TAG7Teil2

Sheet Komponentenweise
C2: KF1 | E2: KF2 | G2: KF3 | I2: KF4 | K2: KF5 | M2: KF6 | O2: KF7 | Q2: KF8 | S2: KF9 | U2: KF10 | W2: KF11 | Y2: KF12
A3: Mittag
A5: TAG 1
C6: Tagessuppe | E6: Hähnchenbrust | I6: Bananen-Quarkspeise#g# | K6: Heidelbeer-Streuselkuchen#1,a,a1,c,g#
E7: Butterreis#g#
E8: Gemüse - Kokos - Curry
A26: Tag 2
C27: Tagessuppe | E27: Gemüsestrudel#1,2,a,a1,c,g# | I27: Kirschkompott#1# | K27: hausgebackenes Gebäck
E28: Kräutersauce#a,a1,g,i# | I28: Vanillesauce#g#
E29: Djuvec Reis#i#
A47: Tag 3
E48: Dicke Rippe#2,3,5,l# | I48: Vanillepudding#1,g# | K48: Waffeln
E49: Bratensauce#5,i,l#
E50: Marktgemüse#g#
E51: Kartoffelgratin
A68: Tag 4
C69: Tagessuppe | E69: Hausgemachte Frikadelle#11,4,a,a1,c,j# | I69: Käsekuchencreme "New York" | K69: hausgebackenes Gebäck
E70: Champignionrahm Sauce#1,2,g#
E71: Prinzessbohnen#g#
E72: Bratkartoffeln
A89: Tag 5
C90: Tagessuppe | E90: Esterhazy, fein | I90: Apfel Crumble | K90: Hausgemachter Käsekuchen#1,a,a1,c,g#
E91: Kräuterreis#g#
E92: Edelfischragout
A110: Tag 6
E111: roter Linseneintopf | I111: Reis Trautmannsdorf | K111: Crepes
A131: Tag 7
C132: Tagessuppe | E132: Barberie Entenkeule | I132: Creme Caramel | K132: Brownie
E133: Orangenjus
E134: Rotkohl#11,3,5,l#
E135: Kartoffelklöße
A153: Abend
A155: TAG 1
C156: Abendbrot "nach Königs Art" | E156: gute Stulle
A177: Tag 2
C178: Abendbrot "nach Königs Art" | E178: saisonales Obst
A199: Tag 3
C200: Abendbrot "nach Königs Art" | E200: Joghurt mit Einlage
A220: Tag 4
C221: Abendbrot "nach Königs Art" | E221: Milchshake/ Smoothie
...

Sheet Komponenten ohne Tax
A1: V2.0
C2: KF1 | E2: KF2 | G2: KF3 | I2: KF4 | K2: KF5 | M2: KF6 | O2: KF7 | Q2: KF8 | S2: KF9 | U2: KF10 | W2: KF11 | Y2: KF12
A3: Mittag
A5: TAG 1
C6: Tagessuppe | E6: Hähnchenbrust | I6: Bananen-Quarkspeise | K6: Heidelbeer-Streuselkuchen
C7: MZ3KF1Tag1Komp2 | E7: Butterreis | G7: MZ3KF3Tag1Komp2 | I7: MZ3KF4Tag1Komp2 | K7: MZ3KF5Tag1Komp2 | M7: MZ3KF6Tag1Komp2 | O7: MZ3KF7Tag1Komp2 | Q7: MZ3KF8Tag1Komp2 | S7: MZ3KF9Tag1Komp2 | U7: MZ3KF10Tag1Komp2 | W7: MZ3KF11Tag1Komp2 | Y7: MZ3KF12Tag1Komp2
C8: MZ3KF1Tag1Komp3 | E8: Gemüse - Kokos - Curry | G8: MZ3KF3Tag1Komp3 | I8: MZ3KF4Tag1Komp3 | K8: MZ3KF5Tag1Komp3 | M8: MZ3KF6Tag1Komp3 | O8: MZ3KF7Tag1Komp3 | Q8: MZ3KF8Tag1Komp3 | S8: MZ3KF9Tag1Komp3 | U8: MZ3KF10Tag1Komp3 | W8: MZ3KF11Tag1Komp3 | Y8: MZ3KF12Tag1Komp3
C9: MZ3KF1Tag1Komp4 | E9: MZ3KF2Tag1Komp4 | G9: MZ3KF3Tag1Komp4 | I9: MZ3KF4Tag1Komp4 | K9: MZ3KF5Tag1Komp4 | M9: MZ3KF6Tag1Komp4 | O9: MZ3KF7Tag1Komp4 | Q9: MZ3KF8Tag1Komp4 | S9: MZ3KF9Tag1Komp4 | U9: MZ3KF10Tag1Komp4 | W9: MZ3KF11Tag1Komp4 | Y9: MZ3KF12Tag1Komp4
C10: MZ3KF1Tag1Komp5 | E10: MZ3KF2Tag1Komp5 | G10: MZ3KF3Tag1Komp5 | I10: MZ3KF4Tag1Komp5 | K10: MZ3KF5Tag1Komp5 | M10: MZ3KF6Tag1Komp5 | O10: MZ3KF7Tag1Komp5 | Q10: MZ3KF8Tag1Komp5 | S10: MZ3KF9Tag1Komp5 | U10: MZ3KF10Tag1Komp5 | W10: MZ3KF11Tag1Komp5 | Y10: MZ3KF12Tag1Komp5
C11: MZ3KF1Tag1Komp6 | E11: MZ3KF2Tag1Komp6 | G11: MZ3KF3Tag1Komp6 | I11: MZ3KF4Tag1Komp6 | K11: MZ3KF5Tag1Komp6 | M11: MZ3KF6Tag1Komp6 | O11: MZ3KF7Tag1Komp6 | Q11: MZ3KF8Tag1Komp6 | S11: MZ3KF9Tag1Komp6 | U11: MZ3KF10Tag1Komp6 | W11: MZ3KF11Tag1Komp6 | Y11: MZ3KF12Tag1Komp6
C12: MZ3KF1Tag1Komp7 | E12: MZ3KF2Tag1Komp7 | G12: MZ3KF3Tag1Komp7 | I12: MZ3KF4Tag1Komp7 | K12: MZ3KF5Tag1Komp7 | M12: MZ3KF6Tag1Komp7 | O12: MZ3KF7Tag1Komp7 | Q12: MZ3KF8Tag1Komp7 | S12: MZ3KF9Tag1Komp7 | U12: MZ3KF10Tag1Komp7 | W12: MZ3KF11Tag1Komp7 | Y12: MZ3KF12Tag1Komp7
C13: MZ3KF1Tag1Komp8 | E13: MZ3KF2Tag1Komp8 | G13: MZ3KF3Tag1Komp8 | I13: MZ3KF4Tag1Komp8 | K13: MZ3KF5Tag1Komp8 | M13: MZ3KF6Tag1Komp8 | O13: MZ3KF7Tag1Komp8 | Q13: MZ3KF8Tag1Komp8 | S13: MZ3KF9Tag1Komp8 | U13: MZ3KF10Tag1Komp8 | W13: MZ3KF11Tag1Komp8 | Y13: MZ3KF12Tag1Komp8
C14: MZ3KF1Tag1Komp9 | E14: MZ3KF2Tag1Komp9 | G14: MZ3KF3Tag1Komp9 | I14: MZ3KF4Tag1Komp9 | K14: MZ3KF5Tag1Komp9 | M14: MZ3KF6Tag1Komp9 | O14: MZ3KF7Tag1Komp9 | Q14: MZ3KF8Tag1Komp9 | S14: MZ3KF9Tag1Komp9 | U14: MZ3KF10Tag1Komp9 | W14: MZ3KF11Tag1Komp9 | Y14: MZ3KF12Tag1Komp9
C15: MZ3KF1Tag1Komp10 | E15: MZ3KF2Tag1Komp10 | G15: MZ3KF3Tag1Komp10 | I15: MZ3KF4Tag1Komp10 | K15: MZ3KF5Tag1Komp10 | M15: MZ3KF6Tag1Komp10 | O15: MZ3KF7Tag1Komp10 | Q15: MZ3KF8Tag1Komp10 | S15: MZ3KF9Tag1Komp10 | U15: MZ3KF10Tag1Komp10 | W15: MZ3KF11Tag1Komp10 | Y15: MZ3KF12Tag1Komp10
C16: MZ3KF1Tag1Komp11 | E16: MZ3KF2Tag1Komp11 | G16: MZ3KF3Tag1Komp11 | I16: MZ3KF4Tag1Komp11 | K16: MZ3KF5Tag1Komp11 | M16: MZ3KF6Tag1Komp11 | O16: MZ3KF7Tag1Komp11 | Q16: MZ3KF8Tag1Komp11 | S16: MZ3KF9Tag1Komp11 | U16: MZ3KF10Tag1Komp11 | W16: MZ3KF11Tag1Komp11 | Y16: MZ3KF12Tag1Komp11
C17: MZ3KF1Tag1Komp12 | E17: MZ3KF2Tag1Komp12 | G17: MZ3KF3Tag1Komp12 | I17: MZ3KF4Tag1Komp12 | K17: MZ3KF5Tag1Komp12 | M17: MZ3KF6Tag1Komp12 | O17: MZ3KF7Tag1Komp12 | Q17: MZ3KF8Tag1Komp12 | S17: MZ3KF9Tag1Komp12 | U17: MZ3KF10Tag1Komp12 | W17: MZ3KF11Tag1Komp12 | Y17: MZ3KF12Tag1Komp12
C18: MZ3KF1Tag1Komp13 | E18: MZ3KF2Tag1Komp13 | G18: MZ3KF3Tag1Komp13 | I18: MZ3KF4Tag1Komp13 | K18: MZ3KF5Tag1Komp13 | M18: MZ3KF6Tag1Komp13 | O18: MZ3KF7Tag1Komp13 | Q18: MZ3KF8Tag1Komp13 | S18: MZ3KF9Tag1Komp13 | U18: MZ3KF10Tag1Komp13 | W18: MZ3KF11Tag1Komp13 | Y18: MZ3KF12Tag1Komp13
... C25: MZ3KF1Tag1Komp20 | E25: MZ3KF2Tag1Komp20 | G25: MZ3KF3Tag1Komp20 | I25: MZ3KF4Tag1Komp20 | K25: MZ3KF5Tag1Komp20 | M25: MZ3KF6Tag1Komp20 | O25: MZ3KF7Tag1Komp20 | Q25: MZ3KF8Tag1Komp20 | S25: MZ3KF9Tag1Komp20 | U25: MZ3KF10Tag1Komp20 | W25: MZ3KF11Tag1Komp20 | Y25: MZ3KF12Tag1Komp20
A26: Tag 2
C27: Tagessuppe | E27: Gemüsestrudel | I27: Kirschkompott | K27: hausgebackenes Gebäck
C28: MZ3KF1Tag2Komp2 | E28: Kräutersauce | G28: MZ3KF3Tag2Komp2 | I28: Vanillesauce | K28: MZ3KF5Tag2Komp2 | M28: MZ3KF6Tag2Komp2 | O28: MZ3KF7Tag2Komp2 | Q28: MZ3KF8Tag2Komp2 | S28: MZ3KF9Tag2Komp2 | U28: MZ3KF10Tag2Komp2 | W28: MZ3KF11Tag2Komp2 | Y28: MZ3KF12Tag2Komp2
C29: MZ3KF1Tag2Komp3 | E29: Djuvec Reis | G29: MZ3KF3Tag2Komp3 | I29: MZ3KF4Tag2Komp3 | K29: MZ3KF5Tag2Komp3 | M29: MZ3KF6Tag2Komp3 | O29: MZ3KF7Tag2Komp3 | Q29: MZ3KF8Tag2Komp3 | S29: MZ3KF9Tag2Komp3 | U29: MZ3KF10Tag2Komp3 | W29: MZ3KF11Tag2Komp3 | Y29: MZ3KF12Tag2Komp3
C30: MZ3KF1Tag2Komp4 | E30: MZ3KF2Tag2Komp4 | G30: MZ3KF3Tag2Komp4 | I30: MZ3KF4Tag2Komp4 | K30: MZ3KF5Tag2Komp4 | M30: MZ3KF6Tag2Komp4 | O30: MZ3KF7Tag2Komp4 | Q30: MZ3KF8Tag2Komp4 | S30: MZ3KF9Tag2Komp4 | U30: MZ3KF10Tag2Komp4 | W30: MZ3KF11Tag2Komp4 | Y30: MZ3KF12Tag2Komp4
C31: MZ3KF1Tag2Komp5 | E31: MZ3KF2Tag2Komp5 | G31: MZ3KF3Tag2Komp5 | I31: MZ3KF4Tag2Komp5 | K31: MZ3KF5Tag2Komp5 | M31: MZ3KF6Tag2Komp5 | O31: MZ3KF7Tag2Komp5 | Q31: MZ3KF8Tag2Komp5 | S31: MZ3KF9Tag2Komp5 | U31: MZ3KF10Tag2Komp5 | W31: MZ3KF11Tag2Komp5 | Y31: MZ3KF12Tag2Komp5
C32: MZ3KF1Tag2Komp6 | E32: MZ3KF2Tag2Komp6 | G32: MZ3KF3Tag2Komp6 | I32: MZ3KF4Tag2Komp6 | K32: MZ3KF5Tag2Komp6 | M32: MZ3KF6Tag2Komp6 | O32: MZ3KF7Tag2Komp6 | Q32: MZ3KF8Tag2Komp6 | S32: MZ3KF9Tag2Komp6 | U32: MZ3KF10Tag2Komp6 | W32: MZ3KF11Tag2Komp6 | Y32: MZ3KF12Tag2Komp6
C33: MZ3KF1Tag2Komp7 | E33: MZ3KF2Tag2Komp7 | G33: MZ3KF3Tag2Komp7 | I33: MZ3KF4Tag2Komp7 | K33: MZ3KF5Tag2Komp7 | M33: MZ3KF6Tag2Komp7 | O33: MZ3KF7Tag2Komp7 | Q33: MZ3KF8Tag2Komp7 | S33: MZ3KF9Tag2Komp7 | U33: MZ3KF10Tag2Komp7 | W33: MZ3KF11Tag2Komp7 | Y33: MZ3KF12Tag2Komp7
C34: MZ3KF1Tag2Komp8 | E34: MZ3KF2Tag2Komp8 | G34: MZ3KF3Tag2Komp8 | I34: MZ3KF4Tag2Komp8 | K34: MZ3KF5Tag2Komp8 | M34: MZ3KF6Tag2Komp8 | O34: MZ3KF7Tag2Komp8 | Q34: MZ3KF8Tag2Komp8 | S34: MZ3KF9Tag2Komp8 | U34: MZ3KF10Tag2Komp8 | W34: MZ3KF11Tag2Komp8 | Y34: MZ3KF12Tag2Komp8
C35: MZ3KF1Tag2Komp9 | E35: MZ3KF2Tag2Komp9 | G35: MZ3KF3Tag2Komp9 | I35: MZ3KF4Tag2Komp9 | K35: MZ3KF5Tag2Komp9 | M35: MZ3KF6Tag2Komp9 | O35: MZ3KF7Tag2Komp9 | Q35: MZ3KF8Tag2Komp9 | S35: MZ3KF9Tag2Komp9 | U35: MZ3KF10Tag2Komp9 | W35: MZ3KF11Tag2Komp9 | Y35: MZ3KF12Tag2Komp9
C36: MZ3KF1Tag2Komp10 | E36: MZ3KF2Tag2Komp10 | G36: MZ3KF3Tag2Komp10 | I36: MZ3KF4Tag2Komp10 | K36: MZ3KF5Tag2Komp10 | M36: MZ3KF6Tag2Komp10 | O36: MZ3KF7Tag2Komp10 | Q36: MZ3KF8Tag2Komp10 | S36: MZ3KF9Tag2Komp10 | U36: MZ3KF10Tag2Komp10 | W36: MZ3KF11Tag2Komp10 | Y36: MZ3KF12Tag2Komp10
C37: MZ3KF1Tag2Komp11 | E37: MZ3KF2Tag2Komp11 | G37: MZ3KF3Tag2Komp11 | I37: MZ3KF4Tag2Komp11 | K37: MZ3KF5Tag2Komp11 | M37: MZ3KF6Tag2Komp11 | O37: MZ3KF7Tag2Komp11 | Q37: MZ3KF8Tag2Komp11 | S37: MZ3KF9Tag2Komp11 | U37: MZ3KF10Tag2Komp11 | W37: MZ3KF11Tag2Komp11 | Y37: MZ3KF12Tag2Komp11
C38: MZ3KF1Tag2Komp12 | E38: MZ3KF2Tag2Komp12 | G38: MZ3KF3Tag2Komp12 | I38: MZ3KF4Tag2Komp12 | K38: MZ3KF5Tag2Komp12 | M38: MZ3KF6Tag2Komp12 | O38: MZ3KF7Tag2Komp12 | Q38: MZ3KF8Tag2Komp12 | S38: MZ3KF9Tag2Komp12 | U38: MZ3KF10Tag2Komp12 | W38: MZ3KF11Tag2Komp12 | Y38: MZ3KF12Tag2Komp12
C39: MZ3KF1Tag2Komp13 | E39: MZ3KF2Tag2Komp13 | G39: MZ3KF3Tag2Komp13 | I39: MZ3KF4Tag2Komp13 | K39: MZ3KF5Tag2Komp13 | M39: MZ3KF6Tag2Komp13 | O39: MZ3KF7Tag2Komp13 | Q39: MZ3KF8Tag2Komp13 | S39: MZ3KF9Tag2Komp13 | U39: MZ3KF10Tag2Komp13 | W39: MZ3KF11Tag2Komp13 | Y39: MZ3KF12Tag2Komp13
... C46: MZ3KF1Tag2Komp20 | E46: MZ3KF2Tag2Komp20 | G46: MZ3KF3Tag2Komp20 | I46: MZ3KF4Tag2Komp20 | K46: MZ3KF5Tag2Komp20 | M46: MZ3KF6Tag2Komp20 | O46: MZ3KF7Tag2Komp20 | Q46: MZ3KF8Tag2Komp20 | S46: MZ3KF9Tag2Komp20 | U46: MZ3KF10Tag2Komp20 | W46: MZ3KF11Tag2Komp20 | Y46: MZ3KF12Tag2Komp20
A47: Tag 3
E48: Dicke Rippe | I48: Vanillepudding | K48: Waffeln
C49: MZ3KF1Tag3Komp2 | E49: Bratensauce | G49: MZ3KF3Tag3Komp2 | I49: MZ3KF4Tag3Komp2 | K49: MZ3KF5Tag3Komp2 | M49: MZ3KF6Tag3Komp2 | O49: MZ3KF7Tag3Komp2 | Q49: MZ3KF8Tag3Komp2 | S49: MZ3KF9Tag3Komp2 | U49: MZ3KF10Tag3Komp2 | W49: MZ3KF11Tag3Komp2 | Y49: MZ3KF12Tag3Komp2
C50: MZ3KF1Tag3Komp3 | E50: Marktgemüse | G50: MZ3KF3Tag3Komp3 | I50: MZ3KF4Tag3Komp3 | K50: MZ3KF5Tag3Komp3 | M50: MZ3KF6Tag3Komp3 | O50: MZ3KF7Tag3Komp3 | Q50: MZ3KF8Tag3Komp3 | S50: MZ3KF9Tag3Komp3 | U50: MZ3KF10Tag3Komp3 | W50: MZ3KF11Tag3Komp3 | Y50: MZ3KF12Tag3Komp3
C51: MZ3KF1Tag3Komp4 | E51: Kartoffelgratin | G51: MZ3KF3Tag3Komp4 | I51: MZ3KF4Tag3Komp4 | K51: MZ3KF5Tag3Komp4 | M51: MZ3KF6Tag3Komp4 | O51: MZ3KF7Tag3Komp4 | Q51: MZ3KF8Tag3Komp4 | S51: MZ3KF9Tag3Komp4 | U51: MZ3KF10Tag3Komp4 | W51: MZ3KF11Tag3Komp4 | Y51: MZ3KF12Tag3Komp4
C52: MZ3KF1Tag3Komp5 | E52: MZ3KF2Tag3Komp5 | G52: MZ3KF3Tag3Komp5 | I52: MZ3KF4Tag3Komp5 | K52: MZ3KF5Tag3Komp5 | M52: MZ3KF6Tag3Komp5 | O52: MZ3KF7Tag3Komp5 | Q52: MZ3KF8Tag3Komp5 | S52: MZ3KF9Tag3Komp5 | U52: MZ3KF10Tag3Komp5 | W52: MZ3KF11Tag3Komp5 | Y52: MZ3KF12Tag3Komp5
C53: MZ3KF1Tag3Komp6 | E53: MZ3KF2Tag3Komp6 | G53: MZ3KF3Tag3Komp6 | I53: MZ3KF4Tag3Komp6 | K53: MZ3KF5Tag3Komp6 | M53: MZ3KF6Tag3Komp6 | O53: MZ3KF7Tag3Komp6 | Q53: MZ3KF8Tag3Komp6 | S53: MZ3KF9Tag3Komp6 | U53: MZ3KF10Tag3Komp6 | W53: MZ3KF11Tag3Komp6 | Y53: MZ3KF12Tag3Komp6
...

Sheet Daten
A2: MZ3Tag1 | B2: =MZ3TAG1 -> 45719
A3: MZ3Tag2 | B3: =+B2+1 -> 45720
A4: MZ3Tag3 | B4: =+B3+1 -> 45721
A5: MZ3Tag4 | B5: =+B4+1 -> 45722
A6: MZ3Tag5 | B6: =+B5+1 -> 45723
A7: MZ3Tag6 | B7: =+B6+1 -> 45724
A8: MZ3Tag7 | B8: =+B7+1 -> 45725
A10: KW | B10: =WEEKNUM(B2,21) -> 10
A11: Jahr | B11: =YEAR(B2) -> 2025

Sheet Aushang Curavie
A1: Akademie Biggesee vom 13.04.2026 bis 19.04.2026, 16. KW
B2: Datum | C2: Montag | F2: Dienstag | I2: Mittwoch | L2: Donnerstag | O2: Freitag | R2: Samstag | U2: Sonntag
C3: 46125 | F3: 46126 | I3: 46127 | L3: 46128 | O3: 46129 | R3: 46130 | U3: 46131
A4: Personenanzahl | D4: 10 | G4: 10 | J4: 10 | M4: 44 | P4: 53 | S4: 72 | W4: 22
A5: Hauptkomponente 1 | C5: Rindergulasch mit Paprika b,e,l | F5: Rinderhüfte "portugisische Art" l | I5: Putenrollbraten mit Backpflaume & Nüssen b,e,l,5 | L5: Frikadellen vom Schwein mit Schmorzwiebelsauce a,b,d,e | O5: Kalbsgeschnetzeltes in Pfeffer - Dattelrahmsauce b,d,l | R5: mediterraner Schweinebraten b,e,l | U5: Maispoulardenbrust in Dijonsenfjus b,d
A10: Hauptkomponente 2 | C10: Kräuterhühnchen mit Harissa & Olivenöl l | F10: Putengulasch mit Tomate & Mango b,e,l | I10: geschmorte Short Ribs vom Rind e,l | L10: Rinderbraten in eigener Sauce b,e,l | O10: Putensteaks in fruchtigem Curryrahm l | R10: Hähnchenstreifen "Napoli" d,e,l | U10: Cordon bleu vom Schwein mit Waldpilzen & Brie gefüllt a,b,d,l
A13: Gemüse | C13: buntes Gemüse | F13: Ofengrillgemüse | I13: buntes Gemüse | L13: Frühlingsgemüse | O13: Pfannengemüse | R13: buntes Ofengemüse d | U13: Schmorgemüse
A18: Beilage 1 | C18: Kroketten a,b,d | F18: Pommes frites | I18: Kartoffel - Petersilienwurzelpüree d | L18: Salzkartoffeln | O18: Basmatireis d | R18: Kartoffeldippers | U18: Steakhouse Fritten
A25: Beilage 2 | C25: Schwenkkartoffeln | F25: Bärlauchspätzle a,b,d | I25: Dauphinekartoffeln a,b | L25: Herzoginkartoffeln a,b,d | O25: kleine Pfefferkartoffeln d | R25: Rosamrinkartoffeln | U25: Kartoffeln aus dem Ofenrohr
A29: vegetarisch | C29: Käsespätzle mit Röstzwiebeln a,b,d | F29: Pizza "Veggiavolo" b,l | I29: Schupfnudelpfanne mit Gemüse, Sesam & rotem Pesto a,b,d | L29: Tortellini in Bärlauchrahm b,d | O29: Gemüselasagne b,d,l | R29: Käsespätzle mit Röstzwiebeln a,b,d | U29: Tortellini in Tomaten Sahnesauce & Mozzarella a,b,d
A38: vegan | C38: Waldpilzragout mit Quinoa & Rucola b | F38: Reisnudelrisotto mit grünem Spargel, Tomate & Zuccchini b | I38: veganes Maultaschencurry b | L38: vegane Cevapcici mit Tzatziki b | O38: Mienudelpfanne mit Wokgemüse & Wasbinüssen b,e,l | R38: Rigatoni mit pikanter Linsenbolognese b,e | U38: Bärlauchrisotto mit Kräuterseitlingen
A42: Allergene
A43: Dessert | C43: Himbeermousse a,b,d | F43: Vanillepudding mit verschiedenen Toppings d | I43: Sahnequark Schwarzwälder Art a,b,d | L43: Dessert- & Kuchenvariation | O43: Panna Cotta mit Fruchttopping d | R43: Creme Caramel a,d,l | U43: Dessert- & Kuchenvariation
D53: Legende der Allergen & Zusatzstoffe 1. Farbstoff, 2. Konservierungsstoffe, 3. Antioxidationsmittel, 4. Geschmacksverstärker, 5. geschwefelt, 6. geschwärzt, 7. gewachst, 8. Phosphat, 9. Milcheiweiß, 10. Süßungsmittel, 11. Phenylalainquelle, 12. chininhaltig, 13. koffeinhaltig, 14. wirkt bei übermäßigem Verzehr abführend a. Eier, b. glutenhaltige getreide, c. Erdnüsse, d. Laktose, e. Sellerie, f. Lupine, g. Krebs- & Schalentiere, h. Fisch, i. Schalenfrüchte, j. Senf, k. Weichtiere, l. Sulfite, Schwefeldioxid, m. Sesam, n. Soja
E60: Kreuzkontaminationen sind in unserer Küche nicht ausgeschlossen!

Sheet Temp.Kontrolle Wohnküchen
B1: Seniorenresidenz Meinerzhagen vom 03.03.2025 bis 09.03.2025, 10. KW
B3: Wohnbereich:
A5: Tg | B5: Menü 1 | C5: C° | D5: Menü 2 | E5: C° | F5: Uhrzeit | G5: Hdz. MA | H5: Ggf. Abendessen | I5: C° | J5: Uhrzeit | K5: Hdz. MA | L5: Bemerkung
A6: Mo | B6: Hähnchenbrust Butterreis g Gemüse - Kokos - Curry | H6: Abendbrot "nach Königs Art"
B9: Tagessuppe
B11: Bananen-Quarkspeise g | H11: gute Stulle
A13: Di | B13: Gemüsestrudel 1,2,a,a1,c,g Kräutersauce a,a1,g,i Djuvec Reis i | H13: Abendbrot "nach Königs Art"
B16: Tagessuppe
H18: saisonales Obst
A20: Mi | B20: Dicke Rippe 2,3,5,l Bratensauce 5,i,l Marktgemüse g Kartoffelgratin | H20: Abendbrot "nach Königs Art"
H25: Joghurt mit Einlage
A27: Do | B27: Hausgemachte Frikadelle 11,4,a,a1,c,j Champignionrahm Sauce 1,2,g Prinzessbohnen g Bratkartoffeln | H27: Abendbrot "nach Königs Art"
B30: Tagessuppe
H32: Milchshake/ Smoothie
A34: Fr | B34: Esterhazy, fein Kräuterreis g Edelfischragout | H34: Abendbrot "nach Königs Art"
B37: Tagessuppe
H39: gute Stulle
A41: Sa | B41: roter Linseneintopf | H41: Abendbrot "nach Königs Art"
H46: saisonales Obst
A48: So | B48: Barberie Entenkeule Orangenjus Rotkohl 11,3,5,l Kartoffelklöße | H48: Abendbrot "nach Königs Art"
H53: Joghurt mit Einlage
A56: Alle warmen Speisen sollen eine Kerntemperatur von mind. +67°C haben. Bei zu niedriger Temperatur retour in die Küche zum Nacherhitzen!
A57: Alle kalten Speisen sollen eine Kerntemperatur von max. +7°C haben. Bei zu hoher Temperatur retour in die Küche zum Kühlen!
B59: Geprüft WBL (Hdz., Datum):
B60: Ablage Küche (Hdz., Datum):

Sheet Legende Zsst. + Allergene
A1: Legende der Zusatzstoffe und Allergene
